BEGIN:VCALENDAR
VERSION:2.0
PRODID:-//Harrison Music Boosters - ECPv6.15.17//NONSGML v1.0//EN
CALSCALE:GREGORIAN
METHOD:PUBLISH
X-ORIGINAL-URL:https://www.harrisonmusicboosters.com
X-WR-CALDESC:Events for Harrison Music Boosters
REFRESH-INTERVAL;VALUE=DURATION:PT1H
X-Robots-Tag:noindex
X-PUBLISHED-TTL:PT1H
BEGIN:VTIMEZONE
TZID:America/New_York
BEGIN:DAYLIGHT
TZOFFSETFROM:-0500
TZOFFSETTO:-0400
TZNAME:EDT
DTSTART:20230312T070000
END:DAYLIGHT
BEGIN:STANDARD
TZOFFSETFROM:-0400
TZOFFSETTO:-0500
TZNAME:EST
DTSTART:20231105T060000
END:STANDARD
BEGIN:DAYLIGHT
TZOFFSETFROM:-0500
TZOFFSETTO:-0400
TZNAME:EDT
DTSTART:20240310T070000
END:DAYLIGHT
BEGIN:STANDARD
TZOFFSETFROM:-0400
TZOFFSETTO:-0500
TZNAME:EST
DTSTART:20241103T060000
END:STANDARD
BEGIN:DAYLIGHT
TZOFFSETFROM:-0500
TZOFFSETTO:-0400
TZNAME:EDT
DTSTART:20250309T070000
END:DAYLIGHT
BEGIN:STANDARD
TZOFFSETFROM:-0400
TZOFFSETTO:-0500
TZNAME:EST
DTSTART:20251102T060000
END:STANDARD
END:VTIMEZONE
BEGIN:VEVENT
DTSTART;TZID=America/New_York:20240323T193000
DTEND;TZID=America/New_York:20240323T213000
DTSTAMP:20260421T162131
CREATED:20231103T160209Z
LAST-MODIFIED:20240307T195006Z
UID:5788-1711222200-1711229400@www.harrisonmusicboosters.com
SUMMARY:Cincinnati Cyclones 50/50 Fundraising Game
DESCRIPTION:Cincinnati Cyclones vs. Kalamazoo Wings \nPuck Drops7:30pm \n\nSpecialty Cincinnati Scoops Jerseys\n\n\nIce Cream Bowl & Spoon giveaway (first 3\,000 fans)\n\n\nPost-Game Jersey Auction\n\n\nCome start your spring break right and volunteer to sell 50/50 raffle tickets and enjoy the game while raising funds for your favorite band!\n\nVolunteer to help sell tickets\, get into the game for free! (18 and older only)
URL:https://www.harrisonmusicboosters.com/event/cincinnati-cyclones-50-50-fundraising-game/
LOCATION:Heritage Bank Center\, 100 Broadway\, Cincinnati\, Ohio\, 45202
END:VEVENT
END:VCALENDAR