BEGIN:VCALENDAR
VERSION:2.0
PRODID:-//Harrison Music Boosters - ECPv6.15.17//NONSGML v1.0//EN
CALSCALE:GREGORIAN
METHOD:PUBLISH
X-ORIGINAL-URL:https://www.harrisonmusicboosters.com
X-WR-CALDESC:Events for Harrison Music Boosters
REFRESH-INTERVAL;VALUE=DURATION:PT1H
X-Robots-Tag:noindex
X-PUBLISHED-TTL:PT1H
BEGIN:VTIMEZONE
TZID:America/New_York
BEGIN:DAYLIGHT
TZOFFSETFROM:-0500
TZOFFSETTO:-0400
TZNAME:EDT
DTSTART:20230312T070000
END:DAYLIGHT
BEGIN:STANDARD
TZOFFSETFROM:-0400
TZOFFSETTO:-0500
TZNAME:EST
DTSTART:20231105T060000
END:STANDARD
BEGIN:DAYLIGHT
TZOFFSETFROM:-0500
TZOFFSETTO:-0400
TZNAME:EDT
DTSTART:20240310T070000
END:DAYLIGHT
BEGIN:STANDARD
TZOFFSETFROM:-0400
TZOFFSETTO:-0500
TZNAME:EST
DTSTART:20241103T060000
END:STANDARD
BEGIN:DAYLIGHT
TZOFFSETFROM:-0500
TZOFFSETTO:-0400
TZNAME:EDT
DTSTART:20250309T070000
END:DAYLIGHT
BEGIN:STANDARD
TZOFFSETFROM:-0400
TZOFFSETTO:-0500
TZNAME:EST
DTSTART:20251102T060000
END:STANDARD
END:VTIMEZONE
BEGIN:VEVENT
DTSTART;TZID=America/New_York:20240812T180000
DTEND;TZID=America/New_York:20240812T190000
DTSTAMP:20260421T082129
CREATED:20240703T185047Z
LAST-MODIFIED:20240703T185047Z
UID:6002-1723485600-1723489200@www.harrisonmusicboosters.com
SUMMARY:Marching Band Parent Preview Night
DESCRIPTION:First show of the year! \nCome to see where the camp hard work has gotten us and have a baseline to compare the end of the season shows in November to. \nThis the perfect time to learn about the boosters and fill out your annual membership\, check out the band merch\, enjoy pre-season show\, and meet some of the other band families.
URL:https://www.harrisonmusicboosters.com/event/marching-band-parent-preview-night/
LOCATION:Harrison High School Football Stadium\, 9860 West Road\, Harrison\, OH\, 45030\, United States
CATEGORIES:Concert/Performance
END:VEVENT
END:VCALENDAR