BEGIN:VCALENDAR
VERSION:2.0
PRODID:-//Harrison Music Boosters - ECPv6.15.17//NONSGML v1.0//EN
CALSCALE:GREGORIAN
METHOD:PUBLISH
X-WR-CALNAME:Harrison Music Boosters
X-ORIGINAL-URL:https://www.harrisonmusicboosters.com
X-WR-CALDESC:Events for Harrison Music Boosters
REFRESH-INTERVAL;VALUE=DURATION:PT1H
X-Robots-Tag:noindex
X-PUBLISHED-TTL:PT1H
BEGIN:VTIMEZONE
TZID:America/New_York
BEGIN:DAYLIGHT
TZOFFSETFROM:-0500
TZOFFSETTO:-0400
TZNAME:EDT
DTSTART:20230312T070000
END:DAYLIGHT
BEGIN:STANDARD
TZOFFSETFROM:-0400
TZOFFSETTO:-0500
TZNAME:EST
DTSTART:20231105T060000
END:STANDARD
BEGIN:DAYLIGHT
TZOFFSETFROM:-0500
TZOFFSETTO:-0400
TZNAME:EDT
DTSTART:20240310T070000
END:DAYLIGHT
BEGIN:STANDARD
TZOFFSETFROM:-0400
TZOFFSETTO:-0500
TZNAME:EST
DTSTART:20241103T060000
END:STANDARD
BEGIN:DAYLIGHT
TZOFFSETFROM:-0500
TZOFFSETTO:-0400
TZNAME:EDT
DTSTART:20250309T070000
END:DAYLIGHT
BEGIN:STANDARD
TZOFFSETFROM:-0400
TZOFFSETTO:-0500
TZNAME:EST
DTSTART:20251102T060000
END:STANDARD
END:VTIMEZONE
BEGIN:VEVENT
DTSTART;TZID=America/New_York:20241018T180000
DTEND;TZID=America/New_York:20241018T190000
DTSTAMP:20260419T124043
CREATED:20240703T205538Z
LAST-MODIFIED:20241014T151304Z
UID:6027-1729274400-1729278000@www.harrisonmusicboosters.com
SUMMARY:Home\, open to the community\, Performance
DESCRIPTION:The band and guard will put on a full run of their show\, open to all who want to see how well they have progressed from their parent preview show in August. \n  \nShowtime is 6:00pm
URL:https://www.harrisonmusicboosters.com/event/away-football-game-bishop-watterson-h-s/
LOCATION:Harrison High School Football Stadium\, 9860 West Road\, Harrison\, OH\, 45030\, United States
CATEGORIES:Concert/Performance,Game
END:VEVENT
END:VCALENDAR