BEGIN:VCALENDAR
VERSION:2.0
PRODID:-//Harrison Music Boosters - ECPv6.15.17//NONSGML v1.0//EN
CALSCALE:GREGORIAN
METHOD:PUBLISH
X-WR-CALNAME:Harrison Music Boosters
X-ORIGINAL-URL:https://www.harrisonmusicboosters.com
X-WR-CALDESC:Events for Harrison Music Boosters
REFRESH-INTERVAL;VALUE=DURATION:PT1H
X-Robots-Tag:noindex
X-PUBLISHED-TTL:PT1H
BEGIN:VTIMEZONE
TZID:America/New_York
BEGIN:DAYLIGHT
TZOFFSETFROM:-0500
TZOFFSETTO:-0400
TZNAME:EDT
DTSTART:20180311T070000
END:DAYLIGHT
BEGIN:STANDARD
TZOFFSETFROM:-0400
TZOFFSETTO:-0500
TZNAME:EST
DTSTART:20181104T060000
END:STANDARD
BEGIN:DAYLIGHT
TZOFFSETFROM:-0500
TZOFFSETTO:-0400
TZNAME:EDT
DTSTART:20190310T070000
END:DAYLIGHT
BEGIN:STANDARD
TZOFFSETFROM:-0400
TZOFFSETTO:-0500
TZNAME:EST
DTSTART:20191103T060000
END:STANDARD
BEGIN:DAYLIGHT
TZOFFSETFROM:-0500
TZOFFSETTO:-0400
TZNAME:EDT
DTSTART:20200308T070000
END:DAYLIGHT
BEGIN:STANDARD
TZOFFSETFROM:-0400
TZOFFSETTO:-0500
TZNAME:EST
DTSTART:20201101T060000
END:STANDARD
BEGIN:DAYLIGHT
TZOFFSETFROM:-0500
TZOFFSETTO:-0400
TZNAME:EDT
DTSTART:20210314T070000
END:DAYLIGHT
BEGIN:STANDARD
TZOFFSETFROM:-0400
TZOFFSETTO:-0500
TZNAME:EST
DTSTART:20211107T060000
END:STANDARD
BEGIN:DAYLIGHT
TZOFFSETFROM:-0500
TZOFFSETTO:-0400
TZNAME:EDT
DTSTART:20220313T070000
END:DAYLIGHT
BEGIN:STANDARD
TZOFFSETFROM:-0400
TZOFFSETTO:-0500
TZNAME:EST
DTSTART:20221106T060000
END:STANDARD
BEGIN:DAYLIGHT
TZOFFSETFROM:-0500
TZOFFSETTO:-0400
TZNAME:EDT
DTSTART:20230312T070000
END:DAYLIGHT
BEGIN:STANDARD
TZOFFSETFROM:-0400
TZOFFSETTO:-0500
TZNAME:EST
DTSTART:20231105T060000
END:STANDARD
END:VTIMEZONE
BEGIN:VEVENT
DTSTART;TZID=America/New_York:20221121T190000
DTEND;TZID=America/New_York:20221121T200000
DTSTAMP:20260424T232836
CREATED:20210727T142923Z
LAST-MODIFIED:20220731T115204Z
UID:5105-1669057200-1669060800@www.harrisonmusicboosters.com
SUMMARY:Music Boosters Meeting #4
DESCRIPTION:
URL:https://www.harrisonmusicboosters.com/event/music-boosters-meeting-4/
LOCATION:HS Band Room\, 9860 West Rd\, Harrison\, oh\, 45030
CATEGORIES:Boosters Meeting
END:VEVENT
BEGIN:VEVENT
DTSTART;TZID=America/New_York:20221017T080000
DTEND;TZID=America/New_York:20221017T170000
DTSTAMP:20260424T232836
CREATED:20220731T120015Z
LAST-MODIFIED:20220731T114711Z
UID:5103-1665993600-1666026000@www.harrisonmusicboosters.com
SUMMARY:Music Boosters Meeting #3
DESCRIPTION:due to fall break\, the October Boosters meeting will be held on the 4th Monday\, October 25th\, 2021
URL:https://www.harrisonmusicboosters.com/event/music-boosters-meeting-3/
LOCATION:HS Band Room\, 9860 West Rd\, Harrison\, oh\, 45030
CATEGORIES:Boosters Meeting
END:VEVENT
BEGIN:VEVENT
DTSTART;TZID=America/New_York:20220919T190000
DTEND;TZID=America/New_York:20220919T200000
DTSTAMP:20260424T232836
CREATED:20210727T142615Z
LAST-MODIFIED:20220731T114348Z
UID:5101-1663614000-1663617600@www.harrisonmusicboosters.com
SUMMARY:Music Boosters Meeting #2
DESCRIPTION:
URL:https://www.harrisonmusicboosters.com/event/music-boosters-meeting-2/
LOCATION:HS Band Room\, 9860 West Rd\, Harrison\, oh\, 45030
CATEGORIES:Boosters Meeting
END:VEVENT
BEGIN:VEVENT
DTSTART;TZID=America/New_York:20220815T190000
DTEND;TZID=America/New_York:20220815T200000
DTSTAMP:20260424T232836
CREATED:20210727T142137Z
LAST-MODIFIED:20220731T114315Z
UID:5097-1660590000-1660593600@www.harrisonmusicboosters.com
SUMMARY:Music Boosters Meeting #1
DESCRIPTION:
URL:https://www.harrisonmusicboosters.com/event/music-boosters-meeting-1/
LOCATION:HS Band Room\, 9860 West Rd\, Harrison\, oh\, 45030
CATEGORIES:Boosters Meeting
END:VEVENT
BEGIN:VEVENT
DTSTART;TZID=America/New_York:20200113T190000
DTEND;TZID=America/New_York:20200113T200000
DTSTAMP:20260424T232836
CREATED:20180819T210449Z
LAST-MODIFIED:20200110T004826Z
UID:2962-1578942000-1578945600@www.harrisonmusicboosters.com
SUMMARY:Music Boosters Meeting #7 JANUARY
DESCRIPTION:
URL:https://www.harrisonmusicboosters.com/event/music-boosters-meeting-7jan/
CATEGORIES:Boosters Meeting
END:VEVENT
BEGIN:VEVENT
DTSTART;TZID=America/New_York:20191216T190000
DTEND;TZID=America/New_York:20191216T200000
DTSTAMP:20260424T232836
CREATED:20170926T002644Z
LAST-MODIFIED:20190709T042747Z
UID:2742-1576522800-1576526400@www.harrisonmusicboosters.com
SUMMARY:Music Boosters Meeting #6 DECEMBER
DESCRIPTION:
URL:https://www.harrisonmusicboosters.com/event/music-boosters-meeting-6dec/
LOCATION:High School Music Room
CATEGORIES:Boosters Meeting
END:VEVENT
BEGIN:VEVENT
DTSTART;TZID=America/New_York:20191118T190000
DTEND;TZID=America/New_York:20191118T200000
DTSTAMP:20260424T232836
CREATED:20180819T210019Z
LAST-MODIFIED:20190709T042240Z
UID:2958-1574103600-1574107200@www.harrisonmusicboosters.com
SUMMARY:Music Boosters Meeting #5 NOVEMBER
DESCRIPTION:
URL:https://www.harrisonmusicboosters.com/event/music-boosters-meeting-5nov/
LOCATION:High School Music Room
CATEGORIES:Boosters Meeting
END:VEVENT
BEGIN:VEVENT
DTSTART;TZID=America/New_York:20190916T183000
DTEND;TZID=America/New_York:20190916T190000
DTSTAMP:20260424T232836
CREATED:20190314T043603Z
LAST-MODIFIED:20190709T040851Z
UID:3643-1568658600-1568660400@www.harrisonmusicboosters.com
SUMMARY:Disney Band 2020 Trip - Parent Informational and Sign Up Meeting
DESCRIPTION:  \n  \n  \n  \nFor more details\, click on the following link: Disney 2020 Band Trip \n 
URL:https://www.harrisonmusicboosters.com/event/disney-band-2020-trip-parent-informational-and-sign-up-meeting/
LOCATION:High School Music Room
CATEGORIES:Boosters Meeting
END:VEVENT
BEGIN:VEVENT
DTSTART;TZID=America/New_York:20190826T190000
DTEND;TZID=America/New_York:20190826T200000
DTSTAMP:20260424T232836
CREATED:20170926T002439Z
LAST-MODIFIED:20190820T031101Z
UID:2736-1566846000-1566849600@www.harrisonmusicboosters.com
SUMMARY:Music Boosters Meeting #2 AUGUST
DESCRIPTION:This meeting is delayed the following instead of the Third Monday to allow for parents and students to get ready for school!! \nHave a great first week!
URL:https://www.harrisonmusicboosters.com/event/music-boosters-meeting-2aug/
LOCATION:High School Music Room
CATEGORIES:Boosters Meeting
END:VEVENT
BEGIN:VEVENT
DTSTART;TZID=America/New_York:20190722T190000
DTEND;TZID=America/New_York:20190722T200000
DTSTAMP:20260424T232836
CREATED:20170926T002525Z
LAST-MODIFIED:20190709T042527Z
UID:2738-1563822000-1563825600@www.harrisonmusicboosters.com
SUMMARY:Music Boosters Meeting #1 JULY
DESCRIPTION:
URL:https://www.harrisonmusicboosters.com/event/music-boosters-meeting-1july/
LOCATION:High School Music Room
CATEGORIES:Boosters Meeting
END:VEVENT
END:VCALENDAR