BEGIN:VCALENDAR
VERSION:2.0
PRODID:-//Harrison Music Boosters - ECPv6.15.17//NONSGML v1.0//EN
CALSCALE:GREGORIAN
METHOD:PUBLISH
X-ORIGINAL-URL:https://www.harrisonmusicboosters.com
X-WR-CALDESC:Events for Harrison Music Boosters
REFRESH-INTERVAL;VALUE=DURATION:PT1H
X-Robots-Tag:noindex
X-PUBLISHED-TTL:PT1H
BEGIN:VTIMEZONE
TZID:America/New_York
BEGIN:DAYLIGHT
TZOFFSETFROM:-0500
TZOFFSETTO:-0400
TZNAME:EDT
DTSTART:20180311T070000
END:DAYLIGHT
BEGIN:STANDARD
TZOFFSETFROM:-0400
TZOFFSETTO:-0500
TZNAME:EST
DTSTART:20181104T060000
END:STANDARD
BEGIN:DAYLIGHT
TZOFFSETFROM:-0500
TZOFFSETTO:-0400
TZNAME:EDT
DTSTART:20190310T070000
END:DAYLIGHT
BEGIN:STANDARD
TZOFFSETFROM:-0400
TZOFFSETTO:-0500
TZNAME:EST
DTSTART:20191103T060000
END:STANDARD
BEGIN:DAYLIGHT
TZOFFSETFROM:-0500
TZOFFSETTO:-0400
TZNAME:EDT
DTSTART:20200308T070000
END:DAYLIGHT
BEGIN:STANDARD
TZOFFSETFROM:-0400
TZOFFSETTO:-0500
TZNAME:EST
DTSTART:20201101T060000
END:STANDARD
BEGIN:DAYLIGHT
TZOFFSETFROM:-0500
TZOFFSETTO:-0400
TZNAME:EDT
DTSTART:20210314T070000
END:DAYLIGHT
BEGIN:STANDARD
TZOFFSETFROM:-0400
TZOFFSETTO:-0500
TZNAME:EST
DTSTART:20211107T060000
END:STANDARD
BEGIN:DAYLIGHT
TZOFFSETFROM:-0500
TZOFFSETTO:-0400
TZNAME:EDT
DTSTART:20220313T070000
END:DAYLIGHT
BEGIN:STANDARD
TZOFFSETFROM:-0400
TZOFFSETTO:-0500
TZNAME:EST
DTSTART:20221106T060000
END:STANDARD
BEGIN:DAYLIGHT
TZOFFSETFROM:-0500
TZOFFSETTO:-0400
TZNAME:EDT
DTSTART:20230312T070000
END:DAYLIGHT
BEGIN:STANDARD
TZOFFSETFROM:-0400
TZOFFSETTO:-0500
TZNAME:EST
DTSTART:20231105T060000
END:STANDARD
BEGIN:DAYLIGHT
TZOFFSETFROM:-0500
TZOFFSETTO:-0400
TZNAME:EDT
DTSTART:20240310T070000
END:DAYLIGHT
BEGIN:STANDARD
TZOFFSETFROM:-0400
TZOFFSETTO:-0500
TZNAME:EST
DTSTART:20241103T060000
END:STANDARD
BEGIN:DAYLIGHT
TZOFFSETFROM:-0500
TZOFFSETTO:-0400
TZNAME:EDT
DTSTART:20250309T070000
END:DAYLIGHT
BEGIN:STANDARD
TZOFFSETFROM:-0400
TZOFFSETTO:-0500
TZNAME:EST
DTSTART:20251102T060000
END:STANDARD
END:VTIMEZONE
BEGIN:VEVENT
DTSTART;TZID=America/New_York:20241207T160000
DTEND;TZID=America/New_York:20241207T173000
DTSTAMP:20260424T215147
CREATED:20241202T202706Z
LAST-MODIFIED:20241202T204731Z
UID:6328-1733587200-1733592600@www.harrisonmusicboosters.com
SUMMARY:Christmas Parade and Tree Lighting
DESCRIPTION:Dress: holiday cheer and black pants \nReport: 4:00 @ Harrison Elementary \nParade: 4:30
URL:https://www.harrisonmusicboosters.com/event/christmas-parade-and-tree-lighting-2/
LOCATION:Harison Elementary\, 600 E. Broadway\, Harrison\, OH\, 45030\, United States
CATEGORIES:Community/Parade
END:VEVENT
BEGIN:VEVENT
DTSTART;TZID=America/New_York:20240704T153000
DTEND;TZID=America/New_York:20240704T170000
DTSTAMP:20260424T215147
CREATED:20240703T182932Z
LAST-MODIFIED:20240703T182932Z
UID:5991-1720107000-1720112400@www.harrisonmusicboosters.com
SUMMARY:4th of July Parade
DESCRIPTION:Report at Harrison Elementary at 3:30 \nParade begins at 4:00. \nBring water and some rain gear just in case.
URL:https://www.harrisonmusicboosters.com/event/4th-of-july-parade/
LOCATION:Harison Elementary\, 600 E. Broadway\, Harrison\, OH\, 45030\, United States
CATEGORIES:Community/Parade
END:VEVENT
BEGIN:VEVENT
DTSTART;VALUE=DATE:20200704
DTEND;VALUE=DATE:20200705
DTSTAMP:20260424T215147
CREATED:20190708T203109Z
LAST-MODIFIED:20190723T124334Z
UID:4037-1593820800-1593907199@www.harrisonmusicboosters.com
SUMMARY:Harrison Fourth of July Parade and Funnel Cake Fundraising
DESCRIPTION:What: Harrison Fourth of July Parade and Funnel Cake Fundraising\nTime: See Schedule Below (Parade Starts at 4pm)\nWho: Marching Band Required/HS Concert Band Optional;\nWhere: Harrison Community Center\nEvent Cost: FREE\nSpecial Note:  This is required for all marching band members incoming freshman and existing grades.  If you are unable to make it\, you must advise Mr. Egan as soon as possible.\n\n  \n\nStudent Loc:/Time: Harrison Elementary – Basketball Court Area\nStudent Dress: Khaki Shorts & Polo Shirts\nStudent Meal Provided: No\, Bring plenty of water\nStudent Transportation:  Not Applicable\nStudent Cost: No; Personal Spending\nVolunteers Needed: Yes – For Funnel Cake Booth; See details below.\n\n  \nStudent Schedule \n2:30 pm – Load Truck \n3:00 pm – Meet at Harrison Elementary Basketball Court for parade line up \n4:00 pm – Parade begins \nYou are free to go after the parade.  Please come help with the fund raising as well if you would like. \n  \nFunnel Cake and Fried Oreo Fund Raising – Harrison Community Center (by large pavilion) \nNeed 6 to 10 volunteers to help support the booth and do preliminary setup a week or two prior to the event day.  This is the first fund raising event to support the Music Program for the upcoming school year.  Please email Communications@harrisonmusicboosters.com for more information.  For general information of the Harrison Music Boosters\, email info@harrisonmusicboosters.com.
URL:https://www.harrisonmusicboosters.com/event/july4/
LOCATION:OH
CATEGORIES:Community/Parade
END:VEVENT
BEGIN:VEVENT
DTSTART;VALUE=DATE:20200524
DTEND;VALUE=DATE:20200526
DTSTAMP:20260424T215147
CREATED:20190302T231204Z
LAST-MODIFIED:20190723T130713Z
UID:3533-1590278400-1590451199@www.harrisonmusicboosters.com
SUMMARY:Harrison Memorial Weekend Parade
DESCRIPTION:MEMORIAL DAY PARADE WEEKEND \n\nWhat: Memorial Day Parade Weekend – 2 Day Event\nTime: See Schedule Below\nWho: Marching Band Required/HS Concert Band Required;\nWhere: See Schedule Below\nEvent Cost: FREE\nSpecial Note:  This is required for all marching band members incoming freshman and existing grades.  If you are unable to make it\, you must advise Mr. Egan as soon as possible.  Reminder: Memorial Day parades are part of your Final for HS band Class\, this is not a marching band only event.\n\n — ALL — Marching Band Members uniform fitting will also occur on Sunday. \n\nStudent Loc:/Time: Harrison Elementary – Basketball Court Area\nStudent Dress: Khaki Shorts & Polo Shirts\nStudent Meal Provided: No\, Bring plenty of water\nStudent Transportation:  Not Applicable; Please arrange transportation to each parade\nStudent Cost: No; Personal Spending\nVolunteers Needed: Yes – For Funnel Cake Booth; See details below.\n\n  \nSunday May 24th Crosby Parade \n10AM ALL 2019 Marching Band Members uniform fitting at HS \n12:30 Meet at HS to Load equipment on Truck \n1:15  Meet at Crosby Community Center on Willey Road.  Drop off is at the main building (parking is available on the fields if you are driving yourself or family is staying for the parade) \n2:00 Parade Starts \n2:20 Ceremony at cemetery \n2:45 Walk back to truck load equipment and go home \n  \nMonday May 25th \nDowntown Harrison Parade \n9:15 Report to Harrison Elem playground lot \n10AM Parade Starts \n10:20 Ceremony in cemetery \n11:00 Load truck and leave for MiamiTown parade \n  \nMiamiTown Parade \n11:30 meet at MiamiTown Elementary \n12:00 noon parade starts \n12:20 Ceremony \n1PM load truck and return to the HS to unload \n  \nBring Water for all Parades!! We will have water available but it will be limited.   \nStart drinking water NOW so you stay hydrated later \nIf you will be out of town for any parade listed above please have your parents or guardian email Mr. Egan directly.
URL:https://www.harrisonmusicboosters.com/event/memorialday/
LOCATION:OH
CATEGORIES:Community/Parade
END:VEVENT
BEGIN:VEVENT
DTSTART;TZID=America/New_York:20191207T170000
DTEND;TZID=America/New_York:20191207T180000
DTSTAMP:20260424T215147
CREATED:20181120T004738Z
LAST-MODIFIED:20190915T203356Z
UID:3084-1575738000-1575741600@www.harrisonmusicboosters.com
SUMMARY:Christmas Parade and Tree Lighting
DESCRIPTION:Band Director’s Note:\nSee Weekly Band Itinerary for complete details. \nChoral Director’s Note:\nDetails to come… \n  \n  \nLast year’s info: \nJoin the party and see the Harrison Marching Band in action in the District in Downtown Harrison\, OH. \nBand to report at Harrison Elementary at 4:15pm in Ugly Christmas Sweaters and Black Pants\nChoir meet Ms.DeMange by the stage around 6:00pm (after the parade) to perform from 6:15-7:15pm.
URL:https://www.harrisonmusicboosters.com/event/christmas-parade-and-tree-lighting/
LOCATION:OH
CATEGORIES:Community/Parade
END:VEVENT
BEGIN:VEVENT
DTSTART;TZID=America/New_York:20191010T160000
DTEND;TZID=America/New_York:20191010T210000
DTSTAMP:20260424T215147
CREATED:20190722T234617Z
LAST-MODIFIED:20190915T203057Z
UID:4274-1570723200-1570741200@www.harrisonmusicboosters.com
SUMMARY:BLINK Parade
DESCRIPTION:Band Director Notes:\nSee Weekly Band Itinerary for complete details.\n\nChoir Director Notes:\nDowntown Cincinnati\nTraveling with Band\, Cheer\, & SPED Students\nBus leaves High School Music Room approx. 4:00p\nStudents need to provide their own lights. Students need to be covered head to toe in battery-powered lights\, glow sticks\, and neon colors. If you will be covered in all lights\, wear black underneath them to create a popping burst of light. 
URL:https://www.harrisonmusicboosters.com/event/blink-parade/
LOCATION:OH
CATEGORIES:Community/Parade
END:VEVENT
BEGIN:VEVENT
DTSTART;VALUE=DATE:20190929
DTEND;VALUE=DATE:20190930
DTSTAMP:20260424T215147
CREATED:20190924T105701Z
LAST-MODIFIED:20190924T105912Z
UID:4787-1569715200-1569801599@www.harrisonmusicboosters.com
SUMMARY:Homecoming Parade
DESCRIPTION:Band Director’s Note:\nSee Weekly Band Itinerary for complete details.  The weekly itinerary from the Band Director trumps any details below. \n  \nEvent Details: \n\nWhat: Homecoming Parade\nDate: Sunday\, September 29\nTime: See Weekly Band Itinerary Link\nWho: Marching Band\nWhere: Harrison Downtown\nEvent Cost: Free\n\nStudent/Volunteer/Parent/Other Info: \n\nStudent Loc:/Time: Harrison Elementary at 4:20pm\nStudent Dress: Windsuits and Show Shirts\nStudent Meal Provided: No\nStudent Transportation:  N/A\nStudent Cost: No\nVolunteers Needed: No\n\n  \nClick Here to help Volunteer
URL:https://www.harrisonmusicboosters.com/event/homecoming-parade/
LOCATION:OH
CATEGORIES:Community/Parade
END:VEVENT
BEGIN:VEVENT
DTSTART;VALUE=DATE:20190914
DTEND;VALUE=DATE:20190915
DTSTAMP:20260424T215147
CREATED:20190323T194622Z
LAST-MODIFIED:20190916T193729Z
UID:3728-1568419200-1568505599@www.harrisonmusicboosters.com
SUMMARY:2019 Day of Service - Band
DESCRIPTION:Band Director’s Note:\nSee Weekly Band Itinerary for complete details.  The weekly itinerary from the Band Director trumps any details below.  The band students would perform the National Anthem and then help out the community. \n  \nEvent Details: \n\nWhat: Day of Service\nDate: Saturday\, September 14\nTime: See Weekly Band Itinerary Link\nWho: Marching Band\nWhere: Harrison High School\nEvent Cost: Free\n\nStudent/Volunteer/Parent/Other Info \n\nStudent Loc:/Time: HS Music Room\nStudent Dress: Polos/Show Shirt and Khaki Shorts\nStudent Meal Provided: No\, Students are encouraged to bring water/drinks and personal snacks\nStudent Transportation:  N/A\nStudent Cost: No\nVolunteers Needed: No\n\n  \nClick Here to help Volunteer \n  \nClick Here for the Harrison High School Football Schedule.  Information is not owned or maintained by the Harrison Music Boosters.
URL:https://www.harrisonmusicboosters.com/event/2019-day-of-service-band/
LOCATION:OH
CATEGORIES:Community/Parade
END:VEVENT
BEGIN:VEVENT
DTSTART;TZID=America/New_York:20190807T080000
DTEND;TZID=America/New_York:20190807T170000
DTSTAMP:20260424T215147
CREATED:20190723T121358Z
LAST-MODIFIED:20190807T015357Z
UID:4281-1565164800-1565197200@www.harrisonmusicboosters.com
SUMMARY:State of the Schools - Band and Color Guard Performance
DESCRIPTION:Event Info \n\nWhat:  State of the School Meeting\nDate: Wednesday\, August 7th\nTime: 7pm\nWho: Marching Band and Color Guard\nWhere: Activity Center\nEvent Cost: Not Applicable\n\n  \nStudent/Volunteer/Parent/Other Info \n\nStudent Loc:/Time: Students will perform after Band Camp Practice; Students will warm up 6 to 6:45pm\nStudent Dress:Full Show Uniform / Superman\nStudent Meal Provided: Yes from 5pm to 6pm\nStudent Transportation:  Not Applicable\nStudent Cost: Not Applicable\nVolunteers Needed: Yes; Email to Help: info@harrisonmusicboosters.com\n\n  \n\nContact Lead: Band Director – Brian Egan\nContact Phone: 859-445-3637\nContact Email: brian.egan@southwestschools.org
URL:https://www.harrisonmusicboosters.com/event/state-of-the-schools/
LOCATION:OH
CATEGORIES:Community/Parade
END:VEVENT
END:VCALENDAR