BEGIN:VCALENDAR
VERSION:2.0
PRODID:-//Harrison Music Boosters - ECPv6.15.17//NONSGML v1.0//EN
CALSCALE:GREGORIAN
METHOD:PUBLISH
X-WR-CALNAME:Harrison Music Boosters
X-ORIGINAL-URL:https://www.harrisonmusicboosters.com
X-WR-CALDESC:Events for Harrison Music Boosters
REFRESH-INTERVAL;VALUE=DURATION:PT1H
X-Robots-Tag:noindex
X-PUBLISHED-TTL:PT1H
BEGIN:VTIMEZONE
TZID:America/New_York
BEGIN:DAYLIGHT
TZOFFSETFROM:-0500
TZOFFSETTO:-0400
TZNAME:EDT
DTSTART:20180311T070000
END:DAYLIGHT
BEGIN:STANDARD
TZOFFSETFROM:-0400
TZOFFSETTO:-0500
TZNAME:EST
DTSTART:20181104T060000
END:STANDARD
BEGIN:DAYLIGHT
TZOFFSETFROM:-0500
TZOFFSETTO:-0400
TZNAME:EDT
DTSTART:20190310T070000
END:DAYLIGHT
BEGIN:STANDARD
TZOFFSETFROM:-0400
TZOFFSETTO:-0500
TZNAME:EST
DTSTART:20191103T060000
END:STANDARD
BEGIN:DAYLIGHT
TZOFFSETFROM:-0500
TZOFFSETTO:-0400
TZNAME:EDT
DTSTART:20200308T070000
END:DAYLIGHT
BEGIN:STANDARD
TZOFFSETFROM:-0400
TZOFFSETTO:-0500
TZNAME:EST
DTSTART:20201101T060000
END:STANDARD
BEGIN:DAYLIGHT
TZOFFSETFROM:-0500
TZOFFSETTO:-0400
TZNAME:EDT
DTSTART:20210314T070000
END:DAYLIGHT
BEGIN:STANDARD
TZOFFSETFROM:-0400
TZOFFSETTO:-0500
TZNAME:EST
DTSTART:20211107T060000
END:STANDARD
BEGIN:DAYLIGHT
TZOFFSETFROM:-0500
TZOFFSETTO:-0400
TZNAME:EDT
DTSTART:20220313T070000
END:DAYLIGHT
BEGIN:STANDARD
TZOFFSETFROM:-0400
TZOFFSETTO:-0500
TZNAME:EST
DTSTART:20221106T060000
END:STANDARD
BEGIN:DAYLIGHT
TZOFFSETFROM:-0500
TZOFFSETTO:-0400
TZNAME:EDT
DTSTART:20230312T070000
END:DAYLIGHT
BEGIN:STANDARD
TZOFFSETFROM:-0400
TZOFFSETTO:-0500
TZNAME:EST
DTSTART:20231105T060000
END:STANDARD
BEGIN:DAYLIGHT
TZOFFSETFROM:-0500
TZOFFSETTO:-0400
TZNAME:EDT
DTSTART:20240310T070000
END:DAYLIGHT
BEGIN:STANDARD
TZOFFSETFROM:-0400
TZOFFSETTO:-0500
TZNAME:EST
DTSTART:20241103T060000
END:STANDARD
END:VTIMEZONE
BEGIN:VEVENT
DTSTART;TZID=America/New_York:20230516T180000
DTEND;TZID=America/New_York:20230516T190000
DTSTAMP:20260424T225341
CREATED:20180819T213606Z
LAST-MODIFIED:20220731T123935Z
UID:2975-1684260000-1684263600@www.harrisonmusicboosters.com
SUMMARY:End of Year Jr High Band Concert
DESCRIPTION:SAVE THE DATE! \nPlease save the date for the  Jr High School Band concert. \n6th Grade Band will kick us off with brief intermissions between bands. \nRefreshments will be available for purchase from the Music Boosters. \nLooking forward to seeing everyone!
URL:https://www.harrisonmusicboosters.com/event/jrhighband-concert/
LOCATION:Activity Center – Martin Marietta Theater\, 9860 West Road\, Harrison\, OH\, 45030\, United States
CATEGORIES:Concert/Performance
END:VEVENT
BEGIN:VEVENT
DTSTART;TZID=America/New_York:20200304T180000
DTEND;TZID=America/New_York:20200304T200000
DTSTAMP:20260424T225341
CREATED:20190715T163956Z
LAST-MODIFIED:20191204T151419Z
UID:4175-1583344800-1583352000@www.harrisonmusicboosters.com
SUMMARY:Band Concert #3 (Spring)
DESCRIPTION:  \n\n\n\n\n\nWhat: All Band Concert \nDate: Wednesday\, March 4 \nTime: 6PM JS\, 7PM HS\nWho: All Band Students\nWhere: Activity Center\nEvent Cost: Free\n\n\nStudent Loc:/Time: Arrive 30 min prior\nStudent Dress: Concert Formal\nStudent Meal Provided: Not Applicable\nStudent Transportation:  Not Applicable\nStudent Cost: Not Applicable\n\nhttp://www.harrisonmusicboosters.com/ConcertBandProgram3 \n\nVolunteers Needed: TBD\n\n\n\n\n\n  \n 
URL:https://www.harrisonmusicboosters.com/event/band-concert-3-spring/
LOCATION:OH
CATEGORIES:Concert/Performance
END:VEVENT
BEGIN:VEVENT
DTSTART;TZID=America/New_York:20191218T180000
DTEND;TZID=America/New_York:20191218T200000
DTSTAMP:20260424T225341
CREATED:20190715T161410Z
LAST-MODIFIED:20191204T151556Z
UID:4173-1576692000-1576699200@www.harrisonmusicboosters.com
SUMMARY:Band Concert #2 (Winter)
DESCRIPTION:What: All Band Concert \nDate: Wednesday\, December 18\nTime: 6PM JS\, 7PM HS\nWho: All Band Students\nWhere: Activity Center\nEvent Cost: Free\n\n\nStudent Loc:/Time: Arrive 30 min prior\nStudent Dress: Concert Formal\nStudent Meal Provided: Not Applicable\nStudent Transportation:  Not Applicable\nStudent Cost: Not Applicable\n\nhttp://www.harrisonmusicboosters.com/ConcertBandProgram2 \n\nVolunteers Needed: TBD
URL:https://www.harrisonmusicboosters.com/event/band-concert-2-winter-tentative/
LOCATION:OH
CATEGORIES:Concert/Performance
END:VEVENT
BEGIN:VEVENT
DTSTART;TZID=America/New_York:20191030T180000
DTEND;TZID=America/New_York:20191030T200000
DTSTAMP:20260424T225341
CREATED:20190715T161216Z
LAST-MODIFIED:20190916T195227Z
UID:4170-1572458400-1572465600@www.harrisonmusicboosters.com
SUMMARY:Band Concert #1 (Fall)
DESCRIPTION:Details to Come. \n  \n  \nClick Here to help Volunteer
URL:https://www.harrisonmusicboosters.com/event/band-concert-1-fall-tentative-date/
LOCATION:OH
CATEGORIES:Concert/Performance
END:VEVENT
BEGIN:VEVENT
DTSTART;TZID=America/New_York:20191008T180000
DTEND;TZID=America/New_York:20191008T200000
DTSTAMP:20260424T225341
CREATED:20180819T213206Z
LAST-MODIFIED:20190916T194429Z
UID:2973-1570557600-1570564800@www.harrisonmusicboosters.com
SUMMARY:Choral Concert #1 (Fall)
DESCRIPTION:Junior School\, Grades 6-8\nStart of the Year Concert\n6:00p \nHigh School\, Grades 9-12\nAn Evening Of Renaissance\nBy The Wildcat & Treble Choir\n7:00p\nFeaturing the first performance of 2019-2020 Harrison’s A Cappella’s DYNAMIX & Take Note\, and a premier of the new group\, Hometunes! \nLocation: Martin Marietta Theater\nCost: Free Admission \nDirected by: Kelsey DeMange\nAccompanied by: Nina Quinlivan and Melissa Fuhrmann \nMerchandise sold by: \nHarrison Music Boosters \nUniform:\nGrades 6-8 \nMusic Polo\, Black Pant \nTreble Choir\nRed & Black Dresses \nWildcat Choir\nPolo\, Black Pant\, Robe \nA Cappella\nMusic Polo with Black Pant \nHigh School Choir Picture:\n6:30p\nMeet in Mirror Room \nJunior School Choir’s Call Time:\n5:45p\n6th Grade Choir Meet On Stage\nChorale\, 4th Bell\, be seated in first two rows\nSymphonic Singers\, 6th Bell\, meet in Mirror Room Backstage \n  \n  \nClick Here to help Volunteer \n 
URL:https://www.harrisonmusicboosters.com/event/choral-concert/
LOCATION:Activity Center – Martin Marietta Theater\, 9860 West Road\, Harrison\, OH\, 45030\, United States
CATEGORIES:Concert/Performance
END:VEVENT
BEGIN:VEVENT
DTSTART;VALUE=DATE:20190911
DTEND;VALUE=DATE:20190912
DTSTAMP:20260424T225341
CREATED:20180819T230958Z
LAST-MODIFIED:20190825T205643Z
UID:3009-1568160000-1568246399@www.harrisonmusicboosters.com
SUMMARY:Parent Preview & Picnic
DESCRIPTION:Event Details \n\nWhat: Parent Preview Show\nDate: Wednesday\, Sept 11th\nTime: 6:30 PM\nWho: Marching Band\nWhere: High School Stadium\nEvent Cost: Free\n\nStudent/Volunteer/Parent/Other Info \n\nStudent Loc:/Time: HS Music Room at 5pm\nStudent Dress: Formal Marching Band Attire or Wind Suits @ Director’s Discretion per weather or other activities\nStudent Meal Provided: See Special Notes Below\nStudent Transportation:  N/A\nStudent Cost: No\nVolunteers Needed: See Special Notes Below\n\n\nContact Lead: Band Director – Brian Egan\nContact Phone: 859-445-3637\nContact Email: brian.egan@southwestschools.org\n\n  \nSPECIAL NOTES: \n5-6:30 Rehearsal\n6:30 Preview show\n7:00 Picnic on the field \nFood to be provided by Boosters and Parents please: \nWoodwinds – desserts\nBrass –  sides\nPerc. and guard – drinks and ice \nMusic Boosters – Hot Dogs\, Buns\, Condiments\, serving ware. \n  \nFor questions or concerns\, email info@harrisonmusicboosters.com
URL:https://www.harrisonmusicboosters.com/event/band-practice-preview-picnic/
LOCATION:Harrison High School Football Stadium\, 9860 West Road\, Harrison\, OH\, 45030\, United States
CATEGORIES:Concert/Performance
END:VEVENT
BEGIN:VEVENT
DTSTART;TZID=America/New_York:20190313T180000
DTEND;TZID=America/New_York:20190313T200000
DTSTAMP:20260424T225341
CREATED:20190302T225555Z
LAST-MODIFIED:20190722T202417Z
UID:3521-1552500000-1552507200@www.harrisonmusicboosters.com
SUMMARY:Concert Band #3 (Spring)
DESCRIPTION:Wednesday\, March 13th; Time: 6PM JS\, 7PM HS \n\nWhat: Band Concert \nWho: Junior School and High School Concert Band\nWhere: Activity Center\nCost: Free\nVolunteers Needed: TBD\n\nStudent Note:  \n\nMeeting Location: HS Music Room 5:30 PM\nDress: Concert Formal\nDinner Provided: Not Applicable\n\nStudent Transportation:  Not Applicable
URL:https://www.harrisonmusicboosters.com/event/junior-school-and-high-school-concert-band/
LOCATION:Activity Center – Martin Marietta Theater\, 9860 West Road\, Harrison\, OH\, 45030\, United States
CATEGORIES:Concert/Performance
END:VEVENT
END:VCALENDAR