BEGIN:VCALENDAR
VERSION:2.0
PRODID:-//Harrison Music Boosters - ECPv6.15.17//NONSGML v1.0//EN
CALSCALE:GREGORIAN
METHOD:PUBLISH
X-WR-CALNAME:Harrison Music Boosters
X-ORIGINAL-URL:https://www.harrisonmusicboosters.com
X-WR-CALDESC:Events for Harrison Music Boosters
REFRESH-INTERVAL;VALUE=DURATION:PT1H
X-Robots-Tag:noindex
X-PUBLISHED-TTL:PT1H
BEGIN:VTIMEZONE
TZID:America/New_York
BEGIN:DAYLIGHT
TZOFFSETFROM:-0500
TZOFFSETTO:-0400
TZNAME:EDT
DTSTART:20230312T070000
END:DAYLIGHT
BEGIN:STANDARD
TZOFFSETFROM:-0400
TZOFFSETTO:-0500
TZNAME:EST
DTSTART:20231105T060000
END:STANDARD
BEGIN:DAYLIGHT
TZOFFSETFROM:-0500
TZOFFSETTO:-0400
TZNAME:EDT
DTSTART:20240310T070000
END:DAYLIGHT
BEGIN:STANDARD
TZOFFSETFROM:-0400
TZOFFSETTO:-0500
TZNAME:EST
DTSTART:20241103T060000
END:STANDARD
BEGIN:DAYLIGHT
TZOFFSETFROM:-0500
TZOFFSETTO:-0400
TZNAME:EDT
DTSTART:20250309T070000
END:DAYLIGHT
BEGIN:STANDARD
TZOFFSETFROM:-0400
TZOFFSETTO:-0500
TZNAME:EST
DTSTART:20251102T060000
END:STANDARD
BEGIN:DAYLIGHT
TZOFFSETFROM:-0500
TZOFFSETTO:-0400
TZNAME:EDT
DTSTART:20260308T070000
END:DAYLIGHT
BEGIN:STANDARD
TZOFFSETFROM:-0400
TZOFFSETTO:-0500
TZNAME:EST
DTSTART:20261101T060000
END:STANDARD
END:VTIMEZONE
BEGIN:VEVENT
DTSTART;TZID=America/New_York:20240927T190000
DTEND;TZID=America/New_York:20240927T213000
DTSTAMP:20260419T213944
CREATED:20240703T204223Z
LAST-MODIFIED:20240703T204223Z
UID:6015-1727463600-1727472600@www.harrisonmusicboosters.com
SUMMARY:Away Football Game @ Campbell County H.S.
DESCRIPTION:The band will NOT travel to this game. \nEnjoy the night off!
URL:https://www.harrisonmusicboosters.com/event/away-football-game-campbell-county-h-s/
LOCATION:Campbell County High School\, 909 Camel Crossing\, Alexandria\, KY\, 41001\, United States
CATEGORIES:Game
END:VEVENT
BEGIN:VEVENT
DTSTART;TZID=America/New_York:20240928T080000
DTEND;TZID=America/New_York:20240928T170000
DTSTAMP:20260419T213944
CREATED:20240703T204333Z
LAST-MODIFIED:20240923T121545Z
UID:6018-1727510400-1727542800@www.harrisonmusicboosters.com
SUMMARY:Band Competition #2
DESCRIPTION:James VanDeGrift Stadium (this is not the same as the address for the high school\, be aware) \n160 Miller Rd. \nLebanon\, OH 45036 \n  \nLet’s go marching Wildcats! Second competition of the year\, now with less nerves and jitters! \n  \nStudent Info: \n7:30 Report to Harrison H.S. \n8:30 Load and dress \n9:30 Leave for Lebanon \n11:20 Warm-up \n12:30 Performance time! \nPost performance load trucks and relax\, eat\, drink \n5:00 Awards \n6:00 Load busses and leave for Harrison \n7:30 Change and go home! Unload the truck on Monday
URL:https://www.harrisonmusicboosters.com/event/band-competition-1/
LOCATION:Lebanon High School
CATEGORIES:Competitions,Concert/Performance
END:VEVENT
BEGIN:VEVENT
DTSTART;TZID=America/New_York:20241004T190000
DTEND;TZID=America/New_York:20241004T213000
DTSTAMP:20260419T213944
CREATED:20240703T204709Z
LAST-MODIFIED:20240703T204709Z
UID:6023-1728068400-1728077400@www.harrisonmusicboosters.com
SUMMARY:Home Football Game vs. Mt. Healthy
DESCRIPTION:Elementary and Inclusion Night
URL:https://www.harrisonmusicboosters.com/event/home-football-game-vs-mt-healthy/
LOCATION:Harrison High School Football Stadium\, 9860 West Road\, Harrison\, OH\, 45030\, United States
CATEGORIES:Concert/Performance,Game
END:VEVENT
BEGIN:VEVENT
DTSTART;TZID=America/New_York:20241005T133000
DTEND;TZID=America/New_York:20241005T220000
DTSTAMP:20260419T213944
CREATED:20240703T210047Z
LAST-MODIFIED:20240930T133028Z
UID:6020-1728135000-1728165600@www.harrisonmusicboosters.com
SUMMARY:Band Competition #3
DESCRIPTION:Let’s do it again! \nCome see the Band and Guard perform their show\, Now You See Me\, Now You Don’t\, at Springboro H.S. at the third competition of the year. \nReport to School: 1:30\nDress and Load Truck: 2:30\nLeave for Springboro: 3:15 \nGates open: 4:00 \nWarm-up: 5:25\nPerform! 6:30\nAwards: 7:15\nPack up\, eat\, relax\, enjoy the larger bands\nFinal awards: 9:15\nWe head back to Harrison after Mason performs. Unload items needed for Sunday Homecoming parade. \nThe official schedule for the competition can be found here. https://www.midstatesba.org/springboro \nWe will again need some volunteers as well to help move equipment around and generally assist the band during the long show day. Sign up here: \nhttps://www.signupgenius.com/go/9040448ACAD2EA64-44441047-pitparent#/
URL:https://www.harrisonmusicboosters.com/event/band-competition-2/
LOCATION:Springboro High School\, 1675 S Main St\, Springboro\, OH\, 45066\, United States
CATEGORIES:Competitions,Concert/Performance
END:VEVENT
BEGIN:VEVENT
DTSTART;TZID=America/New_York:20241006T163000
DTEND;TZID=America/New_York:20241006T180000
DTSTAMP:20260419T213944
CREATED:20240723T121846Z
LAST-MODIFIED:20240930T133245Z
UID:6053-1728232200-1728237600@www.harrisonmusicboosters.com
SUMMARY:Homecoming Parade
DESCRIPTION:4:30 Report to Harrison Elementary \n5:00 Parade! \n5:45 Done \nDress: Show shirt with shorts/jeans
URL:https://www.harrisonmusicboosters.com/event/homecoming-parade-2/
LOCATION:Harison Elementary\, 600 E. Broadway\, Harrison\, OH\, 45030\, United States
END:VEVENT
BEGIN:VEVENT
DTSTART;TZID=America/New_York:20241008T180000
DTEND;TZID=America/New_York:20241008T200000
DTSTAMP:20260419T213944
CREATED:20240723T122453Z
LAST-MODIFIED:20240930T132935Z
UID:6055-1728410400-1728417600@www.harrisonmusicboosters.com
SUMMARY:Fall Junior High School Concert
DESCRIPTION:Junior School Concert starts at 6:00 \n 
URL:https://www.harrisonmusicboosters.com/event/fall-junior-high-and-high-school-concert/
LOCATION:Activity Center – Martin Marietta Theater\, 9860 West Road\, Harrison\, OH\, 45030\, United States
CATEGORIES:Concert/Performance
END:VEVENT
BEGIN:VEVENT
DTSTART;TZID=America/New_York:20241011T190000
DTEND;TZID=America/New_York:20241011T213000
DTSTAMP:20260419T213944
CREATED:20240703T205004Z
LAST-MODIFIED:20240703T205004Z
UID:6025-1728673200-1728682200@www.harrisonmusicboosters.com
SUMMARY:Home Football Game vs. Talawanda (Homecoming)
DESCRIPTION:Homecoming!
URL:https://www.harrisonmusicboosters.com/event/home-football-game-vs-talawanda-homecoming/
LOCATION:Harrison High School Football Stadium\, 9860 West Road\, Harrison\, OH\, 45030\, United States
CATEGORIES:Concert/Performance,Game
END:VEVENT
BEGIN:VEVENT
DTSTART;TZID=America/New_York:20241018T180000
DTEND;TZID=America/New_York:20241018T190000
DTSTAMP:20260419T213944
CREATED:20240703T205538Z
LAST-MODIFIED:20241014T151304Z
UID:6027-1729274400-1729278000@www.harrisonmusicboosters.com
SUMMARY:Home\, open to the community\, Performance
DESCRIPTION:The band and guard will put on a full run of their show\, open to all who want to see how well they have progressed from their parent preview show in August. \n  \nShowtime is 6:00pm
URL:https://www.harrisonmusicboosters.com/event/away-football-game-bishop-watterson-h-s/
LOCATION:Harrison High School Football Stadium\, 9860 West Road\, Harrison\, OH\, 45030\, United States
CATEGORIES:Concert/Performance,Game
END:VEVENT
BEGIN:VEVENT
DTSTART;TZID=America/New_York:20241025T190000
DTEND;TZID=America/New_York:20241025T213000
DTSTAMP:20260419T213944
CREATED:20240703T205740Z
LAST-MODIFIED:20240703T205740Z
UID:6032-1729882800-1729891800@www.harrisonmusicboosters.com
SUMMARY:Home Football Game vs. Northwest
DESCRIPTION:Senior Night \nBring your tissues and hankies.
URL:https://www.harrisonmusicboosters.com/event/home-football-game-vs-northwest/
LOCATION:Harrison High School Football Stadium\, 9860 West Road\, Harrison\, OH\, 45030\, United States
CATEGORIES:Concert/Performance,Game
END:VEVENT
BEGIN:VEVENT
DTSTART;TZID=America/New_York:20241028T190000
DTEND;TZID=America/New_York:20241028T200000
DTSTAMP:20260419T213944
CREATED:20240723T121256Z
LAST-MODIFIED:20240723T121256Z
UID:6047-1730142000-1730145600@www.harrisonmusicboosters.com
SUMMARY:Monthly Booster Meeting
DESCRIPTION:Come help us help the program to grow and thrive and be fun!
URL:https://www.harrisonmusicboosters.com/event/monthly-booster-meeting-4/
LOCATION:Wildcat Room / Activity Center
CATEGORIES:Boosters Meeting
END:VEVENT
BEGIN:VEVENT
DTSTART;TZID=America/New_York:20241101T190000
DTEND;TZID=America/New_York:20241101T213000
DTSTAMP:20260419T213944
CREATED:20240703T205855Z
LAST-MODIFIED:20241028T150635Z
UID:6034-1730487600-1730496600@www.harrisonmusicboosters.com
SUMMARY:Home Football Game vs. Troy (Regional Playoffs)
DESCRIPTION:First round regional playoff game at Home.
URL:https://www.harrisonmusicboosters.com/event/tbd-football-game-vs-tbd-playoffs/
LOCATION:Harrison High School Football Stadium\, 9860 West Road\, Harrison\, OH\, 45030\, United States
CATEGORIES:Concert/Performance,Game
END:VEVENT
BEGIN:VEVENT
DTSTART;TZID=America/New_York:20241102T080000
DTEND;TZID=America/New_York:20241102T170000
DTSTAMP:20260419T213944
CREATED:20240703T210044Z
LAST-MODIFIED:20241030T190114Z
UID:6036-1730534400-1730566800@www.harrisonmusicboosters.com
SUMMARY:Band Competition #4
DESCRIPTION:Final show of the season! \nCome see how much we have improved from the preview night. \nMSBA – West Clermont \n8:00 report to High School and warm-up \n9:15 Load and dress \n10:15 Bus leaves for West Clermont \n12:30 Warm-Up \n1:30 Performance \n4:00 Awards \n4:45 Leave for Harrison \n5:30 Arrive at Harrison
URL:https://www.harrisonmusicboosters.com/event/band-competition-4/
LOCATION:West Clermont High School\, 4101 Bach Buxton Rd\, Batavia\, 4101 Bach Buxton Rd\, Batavia\, OH\, 45103\, United States
CATEGORIES:Competitions,Concert/Performance
END:VEVENT
BEGIN:VEVENT
DTSTART;TZID=America/New_York:20241125T190000
DTEND;TZID=America/New_York:20241125T200000
DTSTAMP:20260419T213944
CREATED:20240723T121623Z
LAST-MODIFIED:20240723T121623Z
UID:6049-1732561200-1732564800@www.harrisonmusicboosters.com
SUMMARY:Monthly Booster Meeting
DESCRIPTION:Last minute prep for the Thanksgiving Morning 5K\, plus other program updates and news. Come be a part of the fun!
URL:https://www.harrisonmusicboosters.com/event/monthly-booster-meeting-5/
LOCATION:Wildcat Room / Activity Center
END:VEVENT
BEGIN:VEVENT
DTSTART;TZID=America/New_York:20241128T080000
DTEND;TZID=America/New_York:20241128T110000
DTSTAMP:20260419T213944
CREATED:20241018T003813Z
LAST-MODIFIED:20241018T003813Z
UID:6192-1732780800-1732791600@www.harrisonmusicboosters.com
SUMMARY:Thanksgiving Day 5K Fun Run/Walk
DESCRIPTION:Join us on Thanksgiving Day for a 5K Run/Walk to help our Harrison High & Jr School Bands and our community! \n8:00 AM – Registration Open\n8:30 AM – Race Starts!
URL:https://www.harrisonmusicboosters.com/event/thanksgiving-day-5k-fun-run-walk-3/
LOCATION:Legacy Christian Church\, 207 N. Vine St.\, Harrison\, OH\, 45030\, United States
CATEGORIES:Fundraisers
END:VEVENT
BEGIN:VEVENT
DTSTART;TZID=America/New_York:20241207T160000
DTEND;TZID=America/New_York:20241207T173000
DTSTAMP:20260419T213944
CREATED:20241202T202706Z
LAST-MODIFIED:20241202T204731Z
UID:6328-1733587200-1733592600@www.harrisonmusicboosters.com
SUMMARY:Christmas Parade and Tree Lighting
DESCRIPTION:Dress: holiday cheer and black pants \nReport: 4:00 @ Harrison Elementary \nParade: 4:30
URL:https://www.harrisonmusicboosters.com/event/christmas-parade-and-tree-lighting-2/
LOCATION:Harison Elementary\, 600 E. Broadway\, Harrison\, OH\, 45030\, United States
CATEGORIES:Community/Parade
END:VEVENT
BEGIN:VEVENT
DTSTART;TZID=America/New_York:20241218T180000
DTEND;TZID=America/New_York:20241218T200000
DTSTAMP:20260419T213944
CREATED:20240723T122603Z
LAST-MODIFIED:20240723T122603Z
UID:6057-1734544800-1734552000@www.harrisonmusicboosters.com
SUMMARY:Holiday Junior High and High School Concert
DESCRIPTION:Junior School Concert starts at 6:00 \nHigh School Concert starts at 7:00 \nFollowed by Percussion and Jazz Ensembles.
URL:https://www.harrisonmusicboosters.com/event/holiday-junior-high-and-high-school-concert/
LOCATION:Activity Center – Martin Marietta Theater\, 9860 West Road\, Harrison\, OH\, 45030\, United States
CATEGORIES:Concert/Performance
END:VEVENT
BEGIN:VEVENT
DTSTART;TZID=America/New_York:20250108T183000
DTEND;TZID=America/New_York:20250108T210000
DTSTAMP:20260419T213944
CREATED:20241202T203258Z
LAST-MODIFIED:20241202T203258Z
UID:6333-1736361000-1736370000@www.harrisonmusicboosters.com
SUMMARY:Pep Band @ Basketball Game
DESCRIPTION:Dress: Harrison spirit wear \nReport: 6:30 \nGametime: 7:30
URL:https://www.harrisonmusicboosters.com/event/pep-band-basketball-game-2/
LOCATION:Activity Center\, 9860 West Road\, Harrison\, OH\, 45030\, United States
CATEGORIES:Game
END:VEVENT
BEGIN:VEVENT
DTSTART;TZID=America/New_York:20250114T183000
DTEND;TZID=America/New_York:20250114T210000
DTSTAMP:20260419T213944
CREATED:20241202T203059Z
LAST-MODIFIED:20250108T203950Z
UID:6331-1736879400-1736888400@www.harrisonmusicboosters.com
SUMMARY:Pep Band @ Basketball Game
DESCRIPTION:Dress: Harrison spiritwear \nReport: 6:30 \nGametime: 7:30
URL:https://www.harrisonmusicboosters.com/event/pep-band-basketball-game/
LOCATION:Activity Center\, 9860 West Road\, Harrison\, OH\, 45030\, United States
CATEGORIES:Game
END:VEVENT
BEGIN:VEVENT
DTSTART;TZID=America/New_York:20250115T183000
DTEND;TZID=America/New_York:20250115T210000
DTSTAMP:20260419T213944
CREATED:20241202T203400Z
LAST-MODIFIED:20241202T203400Z
UID:6335-1736965800-1736974800@www.harrisonmusicboosters.com
SUMMARY:Pep Band @ Basketball Game
DESCRIPTION:Dress: Harrison spirit wear \nReport: 6:30 \nGametime: 7:30
URL:https://www.harrisonmusicboosters.com/event/pep-band-basketball-game-3/
LOCATION:Activity Center\, 9860 West Road\, Harrison\, OH\, 45030\, United States
CATEGORIES:Game
END:VEVENT
BEGIN:VEVENT
DTSTART;TZID=America/New_York:20250124T183000
DTEND;TZID=America/New_York:20250124T210000
DTSTAMP:20260419T213944
CREATED:20241202T203505Z
LAST-MODIFIED:20241202T203505Z
UID:6337-1737743400-1737752400@www.harrisonmusicboosters.com
SUMMARY:Pep Band @ Basketball Game
DESCRIPTION:Dress: Harrison spirit wear \nReport: 6:30 \nGametime: 7:30
URL:https://www.harrisonmusicboosters.com/event/pep-band-basketball-game-4/
LOCATION:Activity Center\, 9860 West Road\, Harrison\, OH\, 45030\, United States
CATEGORIES:Game
END:VEVENT
BEGIN:VEVENT
DTSTART;TZID=America/New_York:20250127T190000
DTEND;TZID=America/New_York:20250127T200000
DTSTAMP:20260419T213944
CREATED:20241202T210054Z
LAST-MODIFIED:20241202T205100Z
UID:6051-1738004400-1738008000@www.harrisonmusicboosters.com
SUMMARY:Monthly Booster Meeting
DESCRIPTION:First meeting of 2025! Welcome back.
URL:https://www.harrisonmusicboosters.com/event/monthly-booster-meeting-6/
LOCATION:Wildcat Room / Activity Center
CATEGORIES:Boosters Meeting
END:VEVENT
BEGIN:VEVENT
DTSTART;TZID=America/New_York:20250131T183000
DTEND;TZID=America/New_York:20250131T210000
DTSTAMP:20260419T213944
CREATED:20241202T203623Z
LAST-MODIFIED:20241202T203623Z
UID:6339-1738348200-1738357200@www.harrisonmusicboosters.com
SUMMARY:Pep Band @ Basketball Game
DESCRIPTION:Dress: Harrison spirit wear \nReport: 6:30 \nGametime: 7:30
URL:https://www.harrisonmusicboosters.com/event/pep-band-basketball-game-5/
LOCATION:Activity Center\, 9860 West Road\, Harrison\, OH\, 45030\, United States
CATEGORIES:Game
END:VEVENT
BEGIN:VEVENT
DTSTART;TZID=America/New_York:20250204T183000
DTEND;TZID=America/New_York:20250204T210000
DTSTAMP:20260419T213944
CREATED:20241202T203935Z
LAST-MODIFIED:20241202T203935Z
UID:6341-1738693800-1738702800@www.harrisonmusicboosters.com
SUMMARY:Pep Band @ Basketball Game
DESCRIPTION:Dress: Harrison spirit wear \nReport: 6:30 \nGametime: 7:30
URL:https://www.harrisonmusicboosters.com/event/pep-band-basketball-game-6/
LOCATION:Activity Center\, 9860 West Road\, Harrison\, OH\, 45030\, United States
CATEGORIES:Game
END:VEVENT
BEGIN:VEVENT
DTSTART;TZID=America/New_York:20250205T183000
DTEND;TZID=America/New_York:20250205T210000
DTSTAMP:20260419T213944
CREATED:20241202T204335Z
LAST-MODIFIED:20241202T204335Z
UID:6343-1738780200-1738789200@www.harrisonmusicboosters.com
SUMMARY:Pep Band @ Basketball Game
DESCRIPTION:Dress: Harrison spirit wear \nReport: 6:30 \nGametime: 7:30
URL:https://www.harrisonmusicboosters.com/event/pep-band-basketball-game-7/
LOCATION:Activity Center\, 9860 West Road\, Harrison\, OH\, 45030\, United States
CATEGORIES:Game
END:VEVENT
BEGIN:VEVENT
DTSTART;TZID=America/New_York:20250213T183000
DTEND;TZID=America/New_York:20250213T210000
DTSTAMP:20260419T213944
CREATED:20241202T204506Z
LAST-MODIFIED:20241202T204506Z
UID:6345-1739471400-1739480400@www.harrisonmusicboosters.com
SUMMARY:Pep Band @ Basketball Game
DESCRIPTION:Dress: Harrison spirit wear \nReport: 6:30 \nGametime: 7:30
URL:https://www.harrisonmusicboosters.com/event/pep-band-basketball-game-8/
LOCATION:Activity Center\, 9860 West Road\, Harrison\, OH\, 45030\, United States
CATEGORIES:Game
END:VEVENT
BEGIN:VEVENT
DTSTART;TZID=America/New_York:20250222T165000
DTEND;TZID=America/New_York:20250222T173000
DTSTAMP:20260419T213944
CREATED:20250212T175713Z
LAST-MODIFIED:20250212T175713Z
UID:6363-1740243000-1740245400@www.harrisonmusicboosters.com
SUMMARY:Winter Guard Competition
DESCRIPTION:Come see the Winter Guard team compete! \nThe Location is Trent Arena on the campus of Kettering Fairmont High School. \nStart time is tentative and depends on how the competition is going\, usually is accurate to plus or minus 10 minutes.
URL:https://www.harrisonmusicboosters.com/event/winter-guard-competition/
LOCATION:Kettering Fairmont HS\, 3301 Shroyer Rd.\, Kettering\, OH\, 45429\, United States
END:VEVENT
BEGIN:VEVENT
DTSTART;TZID=America/New_York:20250224T190000
DTEND;TZID=America/New_York:20250224T200000
DTSTAMP:20260419T213944
CREATED:20241202T205330Z
LAST-MODIFIED:20241202T205330Z
UID:6349-1740423600-1740427200@www.harrisonmusicboosters.com
SUMMARY:Monthly Booster Meeting
DESCRIPTION:February Booster Meeting. Time to start thinking about the Egg-Your-Yard fundraiser
URL:https://www.harrisonmusicboosters.com/event/monthly-booster-meeting-7/
LOCATION:Wildcat Room / Activity Center
CATEGORIES:Boosters Meeting
END:VEVENT
BEGIN:VEVENT
DTSTART;TZID=America/New_York:20250308T104000
DTEND;TZID=America/New_York:20250308T113000
DTSTAMP:20260419T213944
CREATED:20250212T180040Z
LAST-MODIFIED:20250212T180040Z
UID:6366-1741430400-1741433400@www.harrisonmusicboosters.com
SUMMARY:Winter Guard Competition
DESCRIPTION:Come see the Winter Guard team compete! \nThe Location is at Fifth Third Arena on the University of Cincinnati main campus. \nStart time is tentative and depends on how the competition is going\, usually is accurate to plus or minus 10 minutes.
URL:https://www.harrisonmusicboosters.com/event/winter-guard-competition-2/
LOCATION:Fifth Third Arena\, 2700 O'Varsity Way\, Cincinnati\, OH\, 45221\, United States
END:VEVENT
BEGIN:VEVENT
DTSTART;TZID=America/New_York:20250312T180000
DTEND;TZID=America/New_York:20250312T200000
DTSTAMP:20260419T213944
CREATED:20240723T122831Z
LAST-MODIFIED:20240723T122831Z
UID:6059-1741802400-1741809600@www.harrisonmusicboosters.com
SUMMARY:Spring Junior High and High School Concert
DESCRIPTION:Junior School Concert starts at 6:00 \nHigh School Concert starts at 7:00 \nFollowed by Percussion and Jazz Ensembles.
URL:https://www.harrisonmusicboosters.com/event/spring-junior-high-and-high-school-concert/
LOCATION:Activity Center – Martin Marietta Theater\, 9860 West Road\, Harrison\, OH\, 45030\, United States
CATEGORIES:Concert/Performance
END:VEVENT
BEGIN:VEVENT
DTSTART;TZID=America/New_York:20250317T190000
DTEND;TZID=America/New_York:20250317T200000
DTSTAMP:20260419T213944
CREATED:20241202T205620Z
LAST-MODIFIED:20241202T205620Z
UID:6351-1742238000-1742241600@www.harrisonmusicboosters.com
SUMMARY:Monthly Booster Meeting
DESCRIPTION:1 week earlier than normal due to Spring Break. Time to start thinking of committees and officers for the next school year.
URL:https://www.harrisonmusicboosters.com/event/monthly-booster-meeting-8/
LOCATION:Wildcat Room / Activity Center
CATEGORIES:Boosters Meeting
END:VEVENT
END:VCALENDAR