BEGIN:VCALENDAR
VERSION:2.0
PRODID:-//Harrison Music Boosters - ECPv6.15.17//NONSGML v1.0//EN
CALSCALE:GREGORIAN
METHOD:PUBLISH
X-WR-CALNAME:Harrison Music Boosters
X-ORIGINAL-URL:https://www.harrisonmusicboosters.com
X-WR-CALDESC:Events for Harrison Music Boosters
REFRESH-INTERVAL;VALUE=DURATION:PT1H
X-Robots-Tag:noindex
X-PUBLISHED-TTL:PT1H
BEGIN:VTIMEZONE
TZID:America/New_York
BEGIN:DAYLIGHT
TZOFFSETFROM:-0500
TZOFFSETTO:-0400
TZNAME:EDT
DTSTART:20190310T070000
END:DAYLIGHT
BEGIN:STANDARD
TZOFFSETFROM:-0400
TZOFFSETTO:-0500
TZNAME:EST
DTSTART:20191103T060000
END:STANDARD
BEGIN:DAYLIGHT
TZOFFSETFROM:-0500
TZOFFSETTO:-0400
TZNAME:EDT
DTSTART:20200308T070000
END:DAYLIGHT
BEGIN:STANDARD
TZOFFSETFROM:-0400
TZOFFSETTO:-0500
TZNAME:EST
DTSTART:20201101T060000
END:STANDARD
BEGIN:DAYLIGHT
TZOFFSETFROM:-0500
TZOFFSETTO:-0400
TZNAME:EDT
DTSTART:20210314T070000
END:DAYLIGHT
BEGIN:STANDARD
TZOFFSETFROM:-0400
TZOFFSETTO:-0500
TZNAME:EST
DTSTART:20211107T060000
END:STANDARD
BEGIN:DAYLIGHT
TZOFFSETFROM:-0500
TZOFFSETTO:-0400
TZNAME:EDT
DTSTART:20220313T070000
END:DAYLIGHT
BEGIN:STANDARD
TZOFFSETFROM:-0400
TZOFFSETTO:-0500
TZNAME:EST
DTSTART:20221106T060000
END:STANDARD
BEGIN:DAYLIGHT
TZOFFSETFROM:-0500
TZOFFSETTO:-0400
TZNAME:EDT
DTSTART:20230312T070000
END:DAYLIGHT
BEGIN:STANDARD
TZOFFSETFROM:-0400
TZOFFSETTO:-0500
TZNAME:EST
DTSTART:20231105T060000
END:STANDARD
BEGIN:DAYLIGHT
TZOFFSETFROM:-0500
TZOFFSETTO:-0400
TZNAME:EDT
DTSTART:20240310T070000
END:DAYLIGHT
BEGIN:STANDARD
TZOFFSETFROM:-0400
TZOFFSETTO:-0500
TZNAME:EST
DTSTART:20241103T060000
END:STANDARD
END:VTIMEZONE
BEGIN:VEVENT
DTSTART;TZID=America/New_York:20230516T190000
DTEND;TZID=America/New_York:20230516T203000
DTSTAMP:20260419T192534
CREATED:20190503T030359Z
LAST-MODIFIED:20220731T123807Z
UID:3861-1684263600-1684269000@www.harrisonmusicboosters.com
SUMMARY:End of Year HS Band Concert and Jazz Band Concert
DESCRIPTION:SAVE THE DATE! \nPlease save the date for the HS Band concert. \nConcert band in the era of coronavirus has been challenging.  The students are looking forward to actually performing! \nConcert Band will perform at 7PM with an intermission and Jazz Band to follow. \nRefreshments will be available for purchase from the Music Boosters! \nWe will also announce the Show Theme for the 2023 Marching Band Season!
URL:https://www.harrisonmusicboosters.com/event/band-concert/
LOCATION:Activity Center – Martin Marietta Theater\, 9860 West Road\, Harrison\, OH\, 45030\, United States
CATEGORIES:Concert/Performance
END:VEVENT
BEGIN:VEVENT
DTSTART;TZID=America/New_York:20230516T180000
DTEND;TZID=America/New_York:20230516T190000
DTSTAMP:20260419T192534
CREATED:20180819T213606Z
LAST-MODIFIED:20220731T123935Z
UID:2975-1684260000-1684263600@www.harrisonmusicboosters.com
SUMMARY:End of Year Jr High Band Concert
DESCRIPTION:SAVE THE DATE! \nPlease save the date for the  Jr High School Band concert. \n6th Grade Band will kick us off with brief intermissions between bands. \nRefreshments will be available for purchase from the Music Boosters. \nLooking forward to seeing everyone!
URL:https://www.harrisonmusicboosters.com/event/jrhighband-concert/
LOCATION:Activity Center – Martin Marietta Theater\, 9860 West Road\, Harrison\, OH\, 45030\, United States
CATEGORIES:Concert/Performance
END:VEVENT
BEGIN:VEVENT
DTSTART;TZID=America/New_York:20230424T190000
DTEND;TZID=America/New_York:20230424T200000
DTSTAMP:20260419T192534
CREATED:20210727T143454Z
LAST-MODIFIED:20230227T165625Z
UID:5115-1682362800-1682366400@www.harrisonmusicboosters.com
SUMMARY:Music Boosters Meeting #9
DESCRIPTION:
URL:https://www.harrisonmusicboosters.com/event/music-boosters-meeting-9/
LOCATION:HS Band Room\, 9860 West Rd\, Harrison\, oh\, 45030
CATEGORIES:Boosters Meeting
END:VEVENT
BEGIN:VEVENT
DTSTART;TZID=America/New_York:20230407T180000
DTEND;TZID=America/New_York:20230408T220000
DTSTAMP:20260419T192534
CREATED:20230409T000025Z
LAST-MODIFIED:20230227T215649Z
UID:5329-1680890400-1680991200@www.harrisonmusicboosters.com
SUMMARY:Egg Your Yard
DESCRIPTION:Our Band members will sneak to your home after dark and leave your yard scattered with eggs filled with wrapped candies and small toys. \n25 Eggs – $20\n50 Eggs – $40\n75 Eggs – $60\n100 Eggs – $75 \nWe will also leave a note from the Easter Bunny! \nClick HERE to purchase your eggs!!
URL:https://www.harrisonmusicboosters.com/event/egg-your-yard/
LOCATION:OH
CATEGORIES:Fundraisers
END:VEVENT
BEGIN:VEVENT
DTSTART;VALUE=DATE:20230407
DTEND;VALUE=DATE:20230408
DTSTAMP:20260419T192534
CREATED:20190904T182942Z
LAST-MODIFIED:20220731T123334Z
UID:4580-1680825600-1680911999@www.harrisonmusicboosters.com
SUMMARY:District Calendar - No School - Good Friday
DESCRIPTION:
URL:https://www.harrisonmusicboosters.com/event/district-calendar-no-school-good-friday/
LOCATION:OH
CATEGORIES:School Calendar Event
END:VEVENT
BEGIN:VEVENT
DTSTART;TZID=America/New_York:20230327T190000
DTEND;TZID=America/New_York:20230327T200000
DTSTAMP:20260419T192534
CREATED:20210727T143331Z
LAST-MODIFIED:20230227T165728Z
UID:5113-1679943600-1679947200@www.harrisonmusicboosters.com
SUMMARY:Music Boosters Meeting #8
DESCRIPTION:
URL:https://www.harrisonmusicboosters.com/event/music-boosters-meeting-8/
LOCATION:HS Band Room\, 9860 West Rd\, Harrison\, oh\, 45030
CATEGORIES:Boosters Meeting
END:VEVENT
BEGIN:VEVENT
DTSTART;VALUE=DATE:20230320
DTEND;VALUE=DATE:20230325
DTSTAMP:20260419T192534
CREATED:20190826T234144Z
LAST-MODIFIED:20220731T123528Z
UID:4538-1679270400-1679702399@www.harrisonmusicboosters.com
SUMMARY:District Calendar - No School - Spring Break
DESCRIPTION:
URL:https://www.harrisonmusicboosters.com/event/spring-break/
LOCATION:OH
CATEGORIES:School Calendar Event
END:VEVENT
BEGIN:VEVENT
DTSTART;TZID=America/New_York:20230227T190000
DTEND;TZID=America/New_York:20230227T200000
DTSTAMP:20260419T192534
CREATED:20210727T143232Z
LAST-MODIFIED:20220731T121322Z
UID:5111-1677524400-1677528000@www.harrisonmusicboosters.com
SUMMARY:Music Boosters Meeting #7
DESCRIPTION:due to Presidents Day\, the February Boosters meeting will be held on the 4th Monday\, February 27th\, 2023
URL:https://www.harrisonmusicboosters.com/event/music-boosters-meeting-7/
LOCATION:HS Band Room\, 9860 West Rd\, Harrison\, oh\, 45030
CATEGORIES:Boosters Meeting
END:VEVENT
BEGIN:VEVENT
DTSTART;VALUE=DATE:20230220
DTEND;VALUE=DATE:20230221
DTSTAMP:20260419T192534
CREATED:20190904T182835Z
LAST-MODIFIED:20220731T215453Z
UID:4576-1676851200-1676937599@www.harrisonmusicboosters.com
SUMMARY:District Calendar - No School - President's Day
DESCRIPTION:
URL:https://www.harrisonmusicboosters.com/event/district-calendar-no-school-presidents-day/
LOCATION:OH
CATEGORIES:School Calendar Event
END:VEVENT
BEGIN:VEVENT
DTSTART;TZID=America/New_York:20230123T190000
DTEND;TZID=America/New_York:20230123T200000
DTSTAMP:20260419T192534
CREATED:20210727T143131Z
LAST-MODIFIED:20220731T120900Z
UID:5109-1674500400-1674504000@www.harrisonmusicboosters.com
SUMMARY:Music Boosters Meeting #6
DESCRIPTION:due to Martin Luther King Day\, the January Boosters meeting will be held on the 4th Monday\, January 23rd\, 2023
URL:https://www.harrisonmusicboosters.com/event/music-boosters-meeting-6/
LOCATION:HS Band Room\, 9860 West Rd\, Harrison\, oh\, 45030
CATEGORIES:Boosters Meeting
END:VEVENT
BEGIN:VEVENT
DTSTART;VALUE=DATE:20230116
DTEND;VALUE=DATE:20230117
DTSTAMP:20260419T192534
CREATED:20190904T182722Z
LAST-MODIFIED:20220731T215710Z
UID:4572-1673827200-1673913599@www.harrisonmusicboosters.com
SUMMARY:District Calendar - No School - MLK Day
DESCRIPTION:
URL:https://www.harrisonmusicboosters.com/event/district-calendar-no-school-mlk-day/
LOCATION:OH
CATEGORIES:School Calendar Event
END:VEVENT
BEGIN:VEVENT
DTSTART;TZID=America/New_York:20221219T190000
DTEND;TZID=America/New_York:20221219T200000
DTSTAMP:20260419T192534
CREATED:20210727T143032Z
LAST-MODIFIED:20220731T120753Z
UID:5107-1671476400-1671480000@www.harrisonmusicboosters.com
SUMMARY:Music Boosters Meeting #5
DESCRIPTION:
URL:https://www.harrisonmusicboosters.com/event/music-boosters-meeting-5/
LOCATION:HS Band Room\, 9860 West Rd\, Harrison\, oh\, 45030
CATEGORIES:Boosters Meeting
END:VEVENT
BEGIN:VEVENT
DTSTART;TZID=America/New_York:20221124T080000
DTEND;TZID=America/New_York:20221124T110000
DTSTAMP:20260419T192534
CREATED:20211028T022025Z
LAST-MODIFIED:20221113T200823Z
UID:5214-1669276800-1669287600@www.harrisonmusicboosters.com
SUMMARY:Thanksgiving Day 5k Fun Run/Walk
DESCRIPTION:DATE: Thursday\, November 24\, 2022\nTIME: Registration open: 8:00 AM / Race Start: 8:30 AM\nLOCATION: Legacy Christian Church Worship Center\n207 N. Vine St. Harrison\, Ohio \nHelp our Harrison High & Jr School Band and our community!\nRegistration is $20.  Children under 10: $15\nDonations of nonperishable food items for our local food pantries will be accepted.\nAfter race refreshments provided \nIf you are interested in sponsoring the race\, CLICK HERE to download the sponsorship form. \nSuper excited for our black longsleeve Sportstek dri-wick T-shirts!\nRegistration is $20 / $15 for children\nPlease Note: Shirts MUST be pre-ordered by 11/14/2022 \nMens or Woman Shirts: XS\, S\, M\, L\, XL\, 2X\, 3X\nChildren Shirts: XS\, S\, M\, L
URL:https://www.harrisonmusicboosters.com/event/thanksgiving-day-5k-fun-run-walk/
LOCATION:Legacy Christian Church\, 207 N. Vine St.\, Harrison\, OH\, 45030\, United States
CATEGORIES:Fundraisers
ATTACH;FMTTYPE=image/jpeg:https://www.harrisonmusicboosters.com/wp-content/uploads/2021/10/Thanksgiving-2022-Shirt.jpg
END:VEVENT
BEGIN:VEVENT
DTSTART;TZID=America/New_York:20221121T190000
DTEND;TZID=America/New_York:20221121T200000
DTSTAMP:20260419T192534
CREATED:20210727T142923Z
LAST-MODIFIED:20220731T115204Z
UID:5105-1669057200-1669060800@www.harrisonmusicboosters.com
SUMMARY:Music Boosters Meeting #4
DESCRIPTION:
URL:https://www.harrisonmusicboosters.com/event/music-boosters-meeting-4/
LOCATION:HS Band Room\, 9860 West Rd\, Harrison\, oh\, 45030
CATEGORIES:Boosters Meeting
END:VEVENT
BEGIN:VEVENT
DTSTART;TZID=America/New_York:20221017T080000
DTEND;TZID=America/New_York:20221017T170000
DTSTAMP:20260419T192534
CREATED:20220731T120015Z
LAST-MODIFIED:20220731T114711Z
UID:5103-1665993600-1666026000@www.harrisonmusicboosters.com
SUMMARY:Music Boosters Meeting #3
DESCRIPTION:due to fall break\, the October Boosters meeting will be held on the 4th Monday\, October 25th\, 2021
URL:https://www.harrisonmusicboosters.com/event/music-boosters-meeting-3/
LOCATION:HS Band Room\, 9860 West Rd\, Harrison\, oh\, 45030
CATEGORIES:Boosters Meeting
END:VEVENT
BEGIN:VEVENT
DTSTART;TZID=America/New_York:20221007T190000
DTEND;TZID=America/New_York:20221007T220000
DTSTAMP:20260419T192534
CREATED:20200821T022826Z
LAST-MODIFIED:20220731T222007Z
UID:4937-1665169200-1665180000@www.harrisonmusicboosters.com
SUMMARY:Football - Home - Ross
DESCRIPTION:Homecoming \nItineraries will go out shortly for game logistics.
URL:https://www.harrisonmusicboosters.com/event/football-home-ross/
LOCATION:OH
CATEGORIES:Game
END:VEVENT
BEGIN:VEVENT
DTSTART;TZID=America/New_York:20220924T070000
DTEND;TZID=America/New_York:20220924T180000
DTSTAMP:20260419T192534
CREATED:20180819T225032Z
LAST-MODIFIED:20220731T220820Z
UID:3007-1664002800-1664042400@www.harrisonmusicboosters.com
SUMMARY:MSBA Show (01) Lebanon High School
DESCRIPTION:Band Director’s Note:\nSee Weekly Band Itinerary for complete details.  The weekly itinerary from the Band Director trumps any details below. \n  \nEvent Details: \n\nWhat: MSBA Band Competition\nDate: Saturday\, September 24th\, 2023\nTime: See Weekly Band Itinerary Link\nWho: Marching Band\nWhere: Lebanon High School\nEvent Cost: Per the school\n\nStudent/Volunteer/Parent/Other Info: \n\nStudent Loc:/Time: HS Music Room\nStudent Dress: Formal Marching Band Attire\nStudent Meal Provided: TBD\nStudent Transportation:  Bus\nStudent Cost: No; Personal Spending\nVolunteers Needed: Yes – Pit Parents\, Drivers\, etc\n\n  \nClick Here to help Volunteer
URL:https://www.harrisonmusicboosters.com/event/msba-show-01/
LOCATION:Lebanon High School
CATEGORIES:Competitions
END:VEVENT
BEGIN:VEVENT
DTSTART;TZID=America/New_York:20220919T190000
DTEND;TZID=America/New_York:20220919T200000
DTSTAMP:20260419T192534
CREATED:20210727T142615Z
LAST-MODIFIED:20220731T114348Z
UID:5101-1663614000-1663617600@www.harrisonmusicboosters.com
SUMMARY:Music Boosters Meeting #2
DESCRIPTION:
URL:https://www.harrisonmusicboosters.com/event/music-boosters-meeting-2/
LOCATION:HS Band Room\, 9860 West Rd\, Harrison\, oh\, 45030
CATEGORIES:Boosters Meeting
END:VEVENT
BEGIN:VEVENT
DTSTART;TZID=America/New_York:20220815T190000
DTEND;TZID=America/New_York:20220815T200000
DTSTAMP:20260419T192534
CREATED:20210727T142137Z
LAST-MODIFIED:20220731T114315Z
UID:5097-1660590000-1660593600@www.harrisonmusicboosters.com
SUMMARY:Music Boosters Meeting #1
DESCRIPTION:
URL:https://www.harrisonmusicboosters.com/event/music-boosters-meeting-1/
LOCATION:HS Band Room\, 9860 West Rd\, Harrison\, oh\, 45030
CATEGORIES:Boosters Meeting
END:VEVENT
BEGIN:VEVENT
DTSTART;TZID=America/New_York:20220808T133000
DTEND;TZID=America/New_York:20220808T153000
DTSTAMP:20260419T192534
CREATED:20200821T022343Z
LAST-MODIFIED:20220731T134345Z
UID:4929-1659965400-1659972600@www.harrisonmusicboosters.com
SUMMARY:Fall Sports Pictures & Senior Banner Pics
DESCRIPTION:Report time 12:45pm to get dressed in Performance (Superman) Suit
URL:https://www.harrisonmusicboosters.com/event/senior-banner-pictures/
LOCATION:OH
END:VEVENT
BEGIN:VEVENT
DTSTART;VALUE=DATE:20220801
DTEND;VALUE=DATE:20220806
DTSTAMP:20260419T192534
CREATED:20210727T144553Z
LAST-MODIFIED:20220731T123037Z
UID:5123-1659312000-1659743999@www.harrisonmusicboosters.com
SUMMARY:Band Camp (2nd week)
DESCRIPTION:Report to Band room \n8AM to 5PM \n\nArrive early for start time of 8am.\nHere’s a list of important things to bring for band camp\n\n\n• your instrument\n• a binder with clear sheet protectors for your music\n• a healthy lunch\n• a large water bottle/jug and some way to keep it attached to you\n• a couple pencils\n• a lanyard with some way to attach your drill sheets to it\n• an extra pair of socks\n• spirit week items!\n\n\nYour band leaders wanted to have a little extra fun by making each day a dress up day! Our band staffers will be voting on the winners by section. Remember to make all outfits school appropriate as well as weather appropriate (it will be hot out.) The themes are below.\n\n\n\n\n\nWeek 2:\nMonday – Dress as a Staffer Day – You guessed it. Dress as a staff member of our marching band!\nTuesday – Anything But a Water Bottle – For morning block\, bring a regular water bottle\, but for afternoon sectionals\, the game is yours. Bring anything but a water bottle to hold your water.\nWednesdays We Wear Pink – Dress all up in pink and show of your Mean Girls spirit!\nThursday – Decades Day – Dress up in your favorite style from your favorite decade!\nFriday – School Spirit Day – Dress up in green\, white and black to show off your school spirit!\n\n\nIf you have any questions\, please feel free to reach out.
URL:https://www.harrisonmusicboosters.com/event/band-camp-1st-week/
LOCATION:HS Band Room\, 9860 West Rd\, Harrison\, oh\, 45030
CATEGORIES:Rehearsals/Practices
END:VEVENT
BEGIN:VEVENT
DTSTART;TZID=America/New_York:20211018T170000
DTEND;TZID=America/New_York:20211018T210000
DTSTAMP:20260419T192534
CREATED:20210921T013321Z
LAST-MODIFIED:20210921T013321Z
UID:5189-1634576400-1634590800@www.harrisonmusicboosters.com
SUMMARY:Chipotle Fundraiser
DESCRIPTION:Your Chipotle Fundraiser Is One Month Away\nIn queso you forgot\, your Chipotle fundraiser is one month away! CLICK HERE to access your fundraiser flyers and other awesome marketing materials to get ready for your big day! \n\nSouthwest Local Jr/Sr Music Boosters\n10/18/2021\n5:00pm-9:00pm\n589 Ring Rd\, Harrison\, OH 45030-2765\n\nFundraiser Reminders \n\nSave your online ordering code and share with your supporters to make sure online purchases count. Reminder — your online ordering code is: 934E227. If you have questions about how the online ordering process works\, see the attached PDF. Please note that fundraiser online ordering is only valid through pickup during your fundraiser’s scheduled date\, time\, and assigned restaurant. Ordering delivery for fundraisers is not permitted at this time.\nMake sure your supporters show the fundraiser flyer (hard copy or on their phone) or tell the cashier at checkout that they are there for a fundraiser before they pay! If they don’t tell our cashier\, your organization won’t get credit for the sale.\nA minimum of $150 in total sales is required in order to receive a donation.\nYour organization is NOT permitted to hand out flyers to anyone (including your own supporters) or promote the event inside or outside of the restaurant or in the parking lot at any time — that’s cheating! Violation of this policy will result in your fundraiser being cancelled. All promotion should be done prior to the fundraiser – this is your time to sit back and enjoy a big tasty burrito.\nGift cards purchased during fundraisers do not count towards total donated sales\, but purchases made with an existing gift card will count.
URL:https://www.harrisonmusicboosters.com/event/chipotle-fundraiser/
LOCATION:Chipotle Harrison\, 589 Ring Rd\, Harrison\, OH\, 45030\, United States
END:VEVENT
BEGIN:VEVENT
DTSTART;VALUE=DATE:20210920
DTEND;VALUE=DATE:20211002
DTSTAMP:20260419T192534
CREATED:20210921T013617Z
LAST-MODIFIED:20210921T013741Z
UID:5192-1632096000-1633132799@www.harrisonmusicboosters.com
SUMMARY:Otis Spunkmeyer Fundraiser
DESCRIPTION:Otis Spunkmeyer
URL:https://www.harrisonmusicboosters.com/event/otis-spunkmeyer-fundraiser/
LOCATION:OH
END:VEVENT
BEGIN:VEVENT
DTSTART;TZID=America/New_York:20210225T080000
DTEND;TZID=America/New_York:20210312T170000
DTSTAMP:20260419T192534
CREATED:20210224T013219Z
LAST-MODIFIED:20210224T013219Z
UID:4973-1614240000-1615568400@www.harrisonmusicboosters.com
SUMMARY:Spring Oasis Online Fundraiser
DESCRIPTION:More information about this fundraiser coming soon!!
URL:https://www.harrisonmusicboosters.com/event/spring-oasis-online-fundraiser/
LOCATION:OH
END:VEVENT
BEGIN:VEVENT
DTSTART;TZID=America/New_York:20200902T173000
DTEND;TZID=America/New_York:20200902T193000
DTSTAMP:20260419T192534
CREATED:20200821T022258Z
LAST-MODIFIED:20200821T022258Z
UID:4927-1599067800-1599075000@www.harrisonmusicboosters.com
SUMMARY:FULL ENSEMBLE Rehearsal
DESCRIPTION:Bring Water Jug\, Mask\, Towel\, Instrument\, Music
URL:https://www.harrisonmusicboosters.com/event/full-ensemble-rehearsal-4/
LOCATION:OH
END:VEVENT
BEGIN:VEVENT
DTSTART;TZID=America/New_York:20200831T173000
DTEND;TZID=America/New_York:20200831T193000
DTSTAMP:20260419T192534
CREATED:20200821T022205Z
LAST-MODIFIED:20200821T022205Z
UID:4925-1598895000-1598902200@www.harrisonmusicboosters.com
SUMMARY:FULL ENSEMBLE Rehearsal
DESCRIPTION:Bring Water Jug\, Mask\, Towel\, Instrument\, Music
URL:https://www.harrisonmusicboosters.com/event/full-ensemble-rehearsal-3/
LOCATION:OH
END:VEVENT
BEGIN:VEVENT
DTSTART;TZID=America/New_York:20200826T173000
DTEND;TZID=America/New_York:20200826T193000
DTSTAMP:20260419T192534
CREATED:20200821T022131Z
LAST-MODIFIED:20200821T022131Z
UID:4923-1598463000-1598470200@www.harrisonmusicboosters.com
SUMMARY:FULL ENSEMBLE Rehearsal
DESCRIPTION:Bring Water Jug\, Mask\, Towel\, Instrument\, Music
URL:https://www.harrisonmusicboosters.com/event/full-ensemble-rehearsal-2/
LOCATION:OH
END:VEVENT
BEGIN:VEVENT
DTSTART;TZID=America/New_York:20200824T173000
DTEND;TZID=America/New_York:20200824T193000
DTSTAMP:20260419T192534
CREATED:20200821T022041Z
LAST-MODIFIED:20200821T022041Z
UID:4921-1598290200-1598297400@www.harrisonmusicboosters.com
SUMMARY:FULL ENSEMBLE Rehearsal
DESCRIPTION:Bring Water Jug\, Mask\, Towel\, Instrument\, Music
URL:https://www.harrisonmusicboosters.com/event/full-ensemble-rehearsal/
LOCATION:OH
END:VEVENT
BEGIN:VEVENT
DTSTART;TZID=America/New_York:20200820T190000
DTEND;TZID=America/New_York:20200820T220000
DTSTAMP:20260419T192534
CREATED:20200821T022853Z
LAST-MODIFIED:20200821T022853Z
UID:4939-1597950000-1597960800@www.harrisonmusicboosters.com
SUMMARY:Football - Home - Playoffs (TBD)
DESCRIPTION:Itineraries will go out shortly for game logistics.
URL:https://www.harrisonmusicboosters.com/event/football-home-playoffs-tbd/
LOCATION:OH
END:VEVENT
BEGIN:VEVENT
DTSTART;TZID=America/New_York:20200820T190000
DTEND;TZID=America/New_York:20200820T220000
DTSTAMP:20260419T192534
CREATED:20200821T022752Z
LAST-MODIFIED:20200821T022752Z
UID:4935-1597950000-1597960800@www.harrisonmusicboosters.com
SUMMARY:Football - Home - Mt. Healthy
DESCRIPTION:Itineraries will go out shortly for game logistics.
URL:https://www.harrisonmusicboosters.com/event/football-home-mt-healthy/
LOCATION:OH
END:VEVENT
END:VCALENDAR