BEGIN:VCALENDAR
VERSION:2.0
PRODID:-//Harrison Music Boosters - ECPv6.15.17//NONSGML v1.0//EN
CALSCALE:GREGORIAN
METHOD:PUBLISH
X-WR-CALNAME:Harrison Music Boosters
X-ORIGINAL-URL:https://www.harrisonmusicboosters.com
X-WR-CALDESC:Events for Harrison Music Boosters
REFRESH-INTERVAL;VALUE=DURATION:PT1H
X-Robots-Tag:noindex
X-PUBLISHED-TTL:PT1H
BEGIN:VTIMEZONE
TZID:America/New_York
BEGIN:DAYLIGHT
TZOFFSETFROM:-0500
TZOFFSETTO:-0400
TZNAME:EDT
DTSTART:20170312T070000
END:DAYLIGHT
BEGIN:STANDARD
TZOFFSETFROM:-0400
TZOFFSETTO:-0500
TZNAME:EST
DTSTART:20171105T060000
END:STANDARD
BEGIN:DAYLIGHT
TZOFFSETFROM:-0500
TZOFFSETTO:-0400
TZNAME:EDT
DTSTART:20180311T070000
END:DAYLIGHT
BEGIN:STANDARD
TZOFFSETFROM:-0400
TZOFFSETTO:-0500
TZNAME:EST
DTSTART:20181104T060000
END:STANDARD
BEGIN:DAYLIGHT
TZOFFSETFROM:-0500
TZOFFSETTO:-0400
TZNAME:EDT
DTSTART:20190310T070000
END:DAYLIGHT
BEGIN:STANDARD
TZOFFSETFROM:-0400
TZOFFSETTO:-0500
TZNAME:EST
DTSTART:20191103T060000
END:STANDARD
BEGIN:DAYLIGHT
TZOFFSETFROM:-0500
TZOFFSETTO:-0400
TZNAME:EDT
DTSTART:20200308T070000
END:DAYLIGHT
BEGIN:STANDARD
TZOFFSETFROM:-0400
TZOFFSETTO:-0500
TZNAME:EST
DTSTART:20201101T060000
END:STANDARD
END:VTIMEZONE
BEGIN:VEVENT
DTSTART;TZID=America/New_York:20190323T190000
DTEND;TZID=America/New_York:20190323T220000
DTSTAMP:20260422T003936
CREATED:20190227T154046Z
LAST-MODIFIED:20190319T175807Z
UID:3232-1553367600-1553378400@www.harrisonmusicboosters.com
SUMMARY:ICHSA Great Lakes Semifinal at Hilliard Bradley High School
DESCRIPTION:The top finishing group at this event will advance to The 2019 International Championship of High School A Cappella Finals in New York City. \nDate: March 23\nTime: 7:00 pm – 10:00 pm\nICCA/ICHSA/The Open:\nICHSA\, Semifinals\nRegions: Great Lakes \nYou may also purchase TICKETS HERE to this event in advance!\nhttps://www.freshtix.com/events/ichsa-great-lakes-semifinal-at-hilliard-bradley-high-school-2019\n\nVenue Location Change:\nHilliard Bradley High School\n2800 Walker Rd\nHilliard\, OH 43026 \nFeaturing:\nOakappella | Oakstone Academy High School\, Westerville\, OH\nKaleidoscope | Clyde High School\, Clyde\, OH\nSkyline Blues | Skyline High School\, Ann Arbor\, MI\nDetroit Voice | Clarkston High School\, Clarkston\, MI\nSoundProof | Various\, Overland Park\, KS\nViva Voce | Ladue Horton Watkins High School\, St. Louis\, MO\nDYNAMIX | William Henry Harrison High School\, Harrison\, OH\nSCALiWAGS | Charlestown High School\, Charlestown\, IN\nShades of Blue | Hilliard Bradley High School\, Hilliard\, OH\nVega | Chaminade Julienne Catholic High School\, Dayton\, OH
URL:https://www.harrisonmusicboosters.com/event/great-lakes-region-ichsa-semifinals/
LOCATION:OH
END:VEVENT
BEGIN:VEVENT
DTSTART;TZID=America/New_York:20190313T180000
DTEND;TZID=America/New_York:20190313T200000
DTSTAMP:20260422T003936
CREATED:20190302T225555Z
LAST-MODIFIED:20190722T202417Z
UID:3521-1552500000-1552507200@www.harrisonmusicboosters.com
SUMMARY:Concert Band #3 (Spring)
DESCRIPTION:Wednesday\, March 13th; Time: 6PM JS\, 7PM HS \n\nWhat: Band Concert \nWho: Junior School and High School Concert Band\nWhere: Activity Center\nCost: Free\nVolunteers Needed: TBD\n\nStudent Note:  \n\nMeeting Location: HS Music Room 5:30 PM\nDress: Concert Formal\nDinner Provided: Not Applicable\n\nStudent Transportation:  Not Applicable
URL:https://www.harrisonmusicboosters.com/event/junior-school-and-high-school-concert-band/
LOCATION:Activity Center – Martin Marietta Theater\, 9860 West Road\, Harrison\, OH\, 45030\, United States
CATEGORIES:Concert/Performance
END:VEVENT
BEGIN:VEVENT
DTSTART;TZID=America/New_York:20190312T190000
DTEND;TZID=America/New_York:20190312T200000
DTSTAMP:20260422T003936
CREATED:20190307T025635Z
LAST-MODIFIED:20190307T025726Z
UID:3570-1552417200-1552420800@www.harrisonmusicboosters.com
SUMMARY:National Honor Society Band Concert
DESCRIPTION:Tuesday\, March 12th; Time: 7:00PM \n\nWhat: National Honor Society Band Concert \nWho: Junior School 7th and 8th Grade Band\nWhere: Activity Center\nCost: Free\nVolunteers Needed: Not Applicable\n\nStudent Note:  \n\nMeeting Location: Activity Center 6:30 PM\nDress: Sunday Best\nMeal Provided: Not Applicable\nStudent Transportation:  Not Applicable
URL:https://www.harrisonmusicboosters.com/event/national-honor-society-band-concert/
LOCATION:Activity Center – Martin Marietta Theater\, 9860 West Road\, Harrison\, OH\, 45030\, United States
END:VEVENT
BEGIN:VEVENT
DTSTART;TZID=America/New_York:20181123T140000
DTEND;TZID=America/New_York:20181123T180000
DTSTAMP:20260422T003936
CREATED:20181120T004546Z
LAST-MODIFIED:20181120T004546Z
UID:3081-1542981600-1542996000@www.harrisonmusicboosters.com
SUMMARY:Capital Christmas Tree
DESCRIPTION:Join us in the district as the Capital Christmas Tree makes a stop in our community!
URL:https://www.harrisonmusicboosters.com/event/capital-christmas-tree/
LOCATION:Downtown Harrison
END:VEVENT
BEGIN:VEVENT
DTSTART;TZID=America/New_York:20180424T160000
DTEND;TZID=America/New_York:20180424T200000
DTSTAMP:20260422T003936
CREATED:20180316T130740Z
LAST-MODIFIED:20180316T131044Z
UID:2900-1524585600-1524600000@www.harrisonmusicboosters.com
SUMMARY:Harrison Chipotle Fundraiser
DESCRIPTION:Looking for an easy meal and help the Harrison Music Department at the same time? \nJoin us at the Harrison Chipotle’s on Tuesday\, April 24th from 4 pm to 8 pm.  Bring a copy of the flyer in order for the Boosters to get credit. \nDownload Chipotle Flyer
URL:https://www.harrisonmusicboosters.com/event/harrison-chipotle-fundraiser/
LOCATION:Chipotle\, 589 Ring Rd\, Harison\, OH\, 45030\, United States
CATEGORIES:Fundraisers
END:VEVENT
END:VCALENDAR