BEGIN:VCALENDAR
VERSION:2.0
PRODID:-//Harrison Music Boosters - ECPv6.15.17//NONSGML v1.0//EN
CALSCALE:GREGORIAN
METHOD:PUBLISH
X-ORIGINAL-URL:https://www.harrisonmusicboosters.com
X-WR-CALDESC:Events for Harrison Music Boosters
REFRESH-INTERVAL;VALUE=DURATION:PT1H
X-Robots-Tag:noindex
X-PUBLISHED-TTL:PT1H
BEGIN:VTIMEZONE
TZID:America/New_York
BEGIN:DAYLIGHT
TZOFFSETFROM:-0500
TZOFFSETTO:-0400
TZNAME:EDT
DTSTART:20230312T070000
END:DAYLIGHT
BEGIN:STANDARD
TZOFFSETFROM:-0400
TZOFFSETTO:-0500
TZNAME:EST
DTSTART:20231105T060000
END:STANDARD
BEGIN:DAYLIGHT
TZOFFSETFROM:-0500
TZOFFSETTO:-0400
TZNAME:EDT
DTSTART:20240310T070000
END:DAYLIGHT
BEGIN:STANDARD
TZOFFSETFROM:-0400
TZOFFSETTO:-0500
TZNAME:EST
DTSTART:20241103T060000
END:STANDARD
BEGIN:DAYLIGHT
TZOFFSETFROM:-0500
TZOFFSETTO:-0400
TZNAME:EDT
DTSTART:20250309T070000
END:DAYLIGHT
BEGIN:STANDARD
TZOFFSETFROM:-0400
TZOFFSETTO:-0500
TZNAME:EST
DTSTART:20251102T060000
END:STANDARD
END:VTIMEZONE
BEGIN:VEVENT
DTSTART;TZID=America/New_York:20240502T180000
DTEND;TZID=America/New_York:20240502T200000
DTSTAMP:20260421T112337
CREATED:20231102T123519Z
LAST-MODIFIED:20231102T123519Z
UID:5722-1714672800-1714680000@www.harrisonmusicboosters.com
SUMMARY:Summer (Final) Band Concerts
DESCRIPTION:6:00 PM – 6th grade \nFollowed by – Junior High \n7:00 PM – High School \nFollowed by – Jazz Band
URL:https://www.harrisonmusicboosters.com/event/summer-final-band-concerts/
LOCATION:Activity Center – Martin Marietta Theater\, 9860 West Road\, Harrison\, OH\, 45030\, United States
END:VEVENT
BEGIN:VEVENT
DTSTART;TZID=America/New_York:20240520T190000
DTEND;TZID=America/New_York:20240520T200000
DTSTAMP:20260421T112337
CREATED:20231102T122730Z
LAST-MODIFIED:20231102T122730Z
UID:5712-1716231600-1716235200@www.harrisonmusicboosters.com
SUMMARY:Monthly Music Booster Meeting
DESCRIPTION:Come one and all to discuss the inner working of the Harrison Music Boosters! \nLast one of the school year. Officer vote and committee appointments.
URL:https://www.harrisonmusicboosters.com/event/monthly-music-booster-meeting-10/
LOCATION:Wildcat Room / Activity Center
END:VEVENT
END:VCALENDAR