BEGIN:VCALENDAR
VERSION:2.0
PRODID:-//Harrison Music Boosters - ECPv6.15.17//NONSGML v1.0//EN
CALSCALE:GREGORIAN
METHOD:PUBLISH
X-ORIGINAL-URL:https://www.harrisonmusicboosters.com
X-WR-CALDESC:Events for Harrison Music Boosters
REFRESH-INTERVAL;VALUE=DURATION:PT1H
X-Robots-Tag:noindex
X-PUBLISHED-TTL:PT1H
BEGIN:VTIMEZONE
TZID:America/New_York
BEGIN:DAYLIGHT
TZOFFSETFROM:-0500
TZOFFSETTO:-0400
TZNAME:EDT
DTSTART:20230312T070000
END:DAYLIGHT
BEGIN:STANDARD
TZOFFSETFROM:-0400
TZOFFSETTO:-0500
TZNAME:EST
DTSTART:20231105T060000
END:STANDARD
BEGIN:DAYLIGHT
TZOFFSETFROM:-0500
TZOFFSETTO:-0400
TZNAME:EDT
DTSTART:20240310T070000
END:DAYLIGHT
BEGIN:STANDARD
TZOFFSETFROM:-0400
TZOFFSETTO:-0500
TZNAME:EST
DTSTART:20241103T060000
END:STANDARD
BEGIN:DAYLIGHT
TZOFFSETFROM:-0500
TZOFFSETTO:-0400
TZNAME:EDT
DTSTART:20250309T070000
END:DAYLIGHT
BEGIN:STANDARD
TZOFFSETFROM:-0400
TZOFFSETTO:-0500
TZNAME:EST
DTSTART:20251102T060000
END:STANDARD
END:VTIMEZONE
BEGIN:VEVENT
DTSTART;TZID=America/New_York:20240906T190000
DTEND;TZID=America/New_York:20240906T213000
DTSTAMP:20260421T052932
CREATED:20240703T203515Z
LAST-MODIFIED:20240703T203515Z
UID:6008-1725649200-1725658200@www.harrisonmusicboosters.com
SUMMARY:Home Football Game vs. Indian Hill
DESCRIPTION:Harrison Youth Football Night
URL:https://www.harrisonmusicboosters.com/event/home-football-game-vs-indian-hill/
LOCATION:Harrison High School Football Stadium\, 9860 West Road\, Harrison\, OH\, 45030\, United States
CATEGORIES:Concert/Performance,Game
END:VEVENT
BEGIN:VEVENT
DTSTART;TZID=America/New_York:20240913T190000
DTEND;TZID=America/New_York:20240913T213000
DTSTAMP:20260421T052932
CREATED:20240703T203659Z
LAST-MODIFIED:20240703T210342Z
UID:6010-1726254000-1726263000@www.harrisonmusicboosters.com
SUMMARY:Away Football Game @ Western Hills High
DESCRIPTION:The band is NOT travelling to this game. \nRest up!
URL:https://www.harrisonmusicboosters.com/event/away-football-game-western-hills-high/
CATEGORIES:Game
END:VEVENT
BEGIN:VEVENT
DTSTART;TZID=America/New_York:20240920T190000
DTEND;TZID=America/New_York:20240920T213000
DTSTAMP:20260421T052932
CREATED:20240703T203957Z
LAST-MODIFIED:20240703T203958Z
UID:6012-1726858800-1726867800@www.harrisonmusicboosters.com
SUMMARY:Away Football Game @ Clinton Massie H.S.
DESCRIPTION:The band WILL travel to this game. \nReport time to school for the bus will be 5:00
URL:https://www.harrisonmusicboosters.com/event/away-football-game-clinton-massie-h-s/
LOCATION:Clinton Massie High School\, 2556 Lebanon Rd\, Clarksville\, OH\, 45113\, United States
CATEGORIES:Concert/Performance,Game
END:VEVENT
BEGIN:VEVENT
DTSTART;TZID=America/New_York:20240921T080000
DTEND;TZID=America/New_York:20240921T170000
DTSTAMP:20260421T052932
CREATED:20240703T205631Z
LAST-MODIFIED:20240916T135602Z
UID:6030-1726905600-1726938000@www.harrisonmusicboosters.com
SUMMARY:Band Competition #1
DESCRIPTION:First show\, let’s go! \nHard work and football games have prepared the band for this first competition of the year! \nStudent info: \nReport to high school at 11:25 (eat before you arrive!) \n11:30-12:30 rehearse \n12:30-1:30 dress and eat lunch (student bring a lunch!) \n1:30 board bus and depart for EC \nArrive and Gates open at 2:00 PM \n2:50 warm-up \nCompetition Info: \nHarrison Marching Wildcats performs at 3:55 PM \nPost performance\, load trucks and relax\, go to concession. \n5:40 awards \n6:45 load busses and leave for Harrison \n7:30 Arrive\, change\, go home. \n  \nMonday: unload equipment.
URL:https://www.harrisonmusicboosters.com/event/band-competition-3/
LOCATION:East Central High School\, 1 Trojan Rd. A\, St. Leon\, 47012\, United States
CATEGORIES:Competitions,Concert/Performance
END:VEVENT
BEGIN:VEVENT
DTSTART;TZID=America/New_York:20240923T190000
DTEND;TZID=America/New_York:20240923T200000
DTSTAMP:20260421T052932
CREATED:20240703T184540Z
LAST-MODIFIED:20240703T184547Z
UID:6000-1727118000-1727121600@www.harrisonmusicboosters.com
SUMMARY:Monthly Booster Meeting
DESCRIPTION:Come see what the music boosters do. Vote on issues. Provide suggestions. Join in the fun of the music boosters!
URL:https://www.harrisonmusicboosters.com/event/monthly-booster-meeting-3/
LOCATION:Wildcat Sports Arena / Activity Center
CATEGORIES:Boosters Meeting
END:VEVENT
BEGIN:VEVENT
DTSTART;TZID=America/New_York:20240927T190000
DTEND;TZID=America/New_York:20240927T213000
DTSTAMP:20260421T052932
CREATED:20240703T204223Z
LAST-MODIFIED:20240703T204223Z
UID:6015-1727463600-1727472600@www.harrisonmusicboosters.com
SUMMARY:Away Football Game @ Campbell County H.S.
DESCRIPTION:The band will NOT travel to this game. \nEnjoy the night off!
URL:https://www.harrisonmusicboosters.com/event/away-football-game-campbell-county-h-s/
LOCATION:Campbell County High School\, 909 Camel Crossing\, Alexandria\, KY\, 41001\, United States
CATEGORIES:Game
END:VEVENT
BEGIN:VEVENT
DTSTART;TZID=America/New_York:20240928T080000
DTEND;TZID=America/New_York:20240928T170000
DTSTAMP:20260421T052932
CREATED:20240703T204333Z
LAST-MODIFIED:20240923T121545Z
UID:6018-1727510400-1727542800@www.harrisonmusicboosters.com
SUMMARY:Band Competition #2
DESCRIPTION:James VanDeGrift Stadium (this is not the same as the address for the high school\, be aware) \n160 Miller Rd. \nLebanon\, OH 45036 \n  \nLet’s go marching Wildcats! Second competition of the year\, now with less nerves and jitters! \n  \nStudent Info: \n7:30 Report to Harrison H.S. \n8:30 Load and dress \n9:30 Leave for Lebanon \n11:20 Warm-up \n12:30 Performance time! \nPost performance load trucks and relax\, eat\, drink \n5:00 Awards \n6:00 Load busses and leave for Harrison \n7:30 Change and go home! Unload the truck on Monday
URL:https://www.harrisonmusicboosters.com/event/band-competition-1/
LOCATION:Lebanon High School
CATEGORIES:Competitions,Concert/Performance
END:VEVENT
END:VCALENDAR